BEGIN:VCALENDAR
VERSION:2.0
PRODID:-//AmCham Kenya - ECPv6.15.20//NONSGML v1.0//EN
CALSCALE:GREGORIAN
METHOD:PUBLISH
X-WR-CALNAME:AmCham Kenya
X-ORIGINAL-URL:https://amcham.co.ke
X-WR-CALDESC:Events for AmCham Kenya
REFRESH-INTERVAL;VALUE=DURATION:PT1H
X-Robots-Tag:noindex
X-PUBLISHED-TTL:PT1H
BEGIN:VTIMEZONE
TZID:+00:00
END:VTIMEZONE
BEGIN:VEVENT
DTSTART;TZID=+00:00:20251113T000000
DTEND;TZID=+00:00:20251113T020000
DTSTAMP:20260425T000816
CREATED:20260423T184747Z
LAST-MODIFIED:20260423T194225Z
UID:5932-1762992000-1762999200@amcham.co.ke
SUMMARY:The State of Trade Forum
DESCRIPTION:
URL:https://amcham.co.ke/event/the-state-of-trade-forum/
LOCATION:Hyatt Regency Nairobi Westlands
END:VEVENT
BEGIN:VEVENT
DTSTART;TZID=+00:00:20251118T000000
DTEND;TZID=+00:00:20251118T020000
DTSTAMP:20260425T000816
CREATED:20260423T184747Z
LAST-MODIFIED:20260423T194224Z
UID:5933-1763424000-1763431200@amcham.co.ke
SUMMARY:Digital Tax Forum
DESCRIPTION:
URL:https://amcham.co.ke/event/digital-tax-forum/
LOCATION:Radisson Blu Hotel\, Nairobi Upper Hill
END:VEVENT
BEGIN:VEVENT
DTSTART;TZID=+00:00:20251121T100000
DTEND;TZID=+00:00:20251121T150000
DTSTAMP:20260425T000816
CREATED:20260423T184747Z
LAST-MODIFIED:20260423T194224Z
UID:5935-1763719200-1763737200@amcham.co.ke
SUMMARY:AmCham Thanksgiving Dinner 2025
DESCRIPTION:
URL:https://amcham.co.ke/event/amcham-thanksgiving-dinner-2025/
LOCATION:Pullman Nairobi Upper Hill
END:VEVENT
END:VCALENDAR