BEGIN:VCALENDAR
VERSION:2.0
PRODID:-//AmCham Kenya - ECPv6.15.20//NONSGML v1.0//EN
CALSCALE:GREGORIAN
METHOD:PUBLISH
X-ORIGINAL-URL:https://amcham.co.ke
X-WR-CALDESC:Events for AmCham Kenya
REFRESH-INTERVAL;VALUE=DURATION:PT1H
X-Robots-Tag:noindex
X-PUBLISHED-TTL:PT1H
BEGIN:VTIMEZONE
TZID:+00:00
END:VTIMEZONE
BEGIN:VEVENT
DTSTART;TZID=+00:00:20250903T010000
DTEND;TZID=+00:00:20250903T030000
DTSTAMP:20260425T025102
CREATED:20260423T184747Z
LAST-MODIFIED:20260423T194225Z
UID:5930-1756861200-1756868400@amcham.co.ke
SUMMARY:Health High-Level Multi-Stakeholder Forum on “Unlocking WHO ML3:
DESCRIPTION:
URL:https://amcham.co.ke/event/health-high-level-multi-stakeholder-forum-on-unlocking-who-ml3/
LOCATION:Villa Rosa Kempinski
END:VEVENT
BEGIN:VEVENT
DTSTART;TZID=+00:00:20250926T030000
DTEND;TZID=+00:00:20250926T120000
DTSTAMP:20260425T025102
CREATED:20260423T184747Z
LAST-MODIFIED:20260423T194225Z
UID:5931-1758855600-1758888000@amcham.co.ke
SUMMARY:AmCham Golf Open 2025
DESCRIPTION:
URL:https://amcham.co.ke/event/amcham-golf-open-2025/
LOCATION:Karen Country Club
END:VEVENT
END:VCALENDAR