BEGIN:VCALENDAR
VERSION:2.0
PRODID:-//AmCham Kenya - ECPv6.15.20//NONSGML v1.0//EN
CALSCALE:GREGORIAN
METHOD:PUBLISH
X-ORIGINAL-URL:https://amcham.co.ke
X-WR-CALDESC:Events for AmCham Kenya
REFRESH-INTERVAL;VALUE=DURATION:PT1H
X-Robots-Tag:noindex
X-PUBLISHED-TTL:PT1H
BEGIN:VTIMEZONE
TZID:+00:00
END:VTIMEZONE
BEGIN:VEVENT
DTSTART;TZID=+00:00:20250314T023000
DTEND;TZID=+00:00:20250314T043000
DTSTAMP:20260425T105551
CREATED:20260423T184743Z
LAST-MODIFIED:20260423T194227Z
UID:5917-1741919400-1741926600@amcham.co.ke
SUMMARY:AmCham Women in Business Leadership 2025
DESCRIPTION:
URL:https://amcham.co.ke/event/amcham-women-in-business-leadership-2025/
LOCATION:Trademark Hotel
END:VEVENT
BEGIN:VEVENT
DTSTART;TZID=+00:00:20250325T000000
DTEND;TZID=+00:00:20250325T013000
DTSTAMP:20260425T105551
CREATED:20260423T184744Z
LAST-MODIFIED:20260423T194227Z
UID:5918-1742860800-1742866200@amcham.co.ke
SUMMARY:AmCham Immigration Forum
DESCRIPTION:
URL:https://amcham.co.ke/event/amcham-immigration-forum-2/
LOCATION:Villa Rosa Kempinski
END:VEVENT
BEGIN:VEVENT
DTSTART;TZID=+00:00:20250327T070000
DTEND;TZID=+00:00:20250327T083000
DTSTAMP:20260425T105551
CREATED:20260423T184744Z
LAST-MODIFIED:20260423T194227Z
UID:5919-1743058800-1743064200@amcham.co.ke
SUMMARY:The Business Case for Disability Mainstreaming Forum
DESCRIPTION:
URL:https://amcham.co.ke/event/the-business-case-for-disability-mainstreaming-forum/
END:VEVENT
BEGIN:VEVENT
DTSTART;TZID=+00:00:20250328T100000
DTEND;TZID=+00:00:20250328T123000
DTSTAMP:20260425T105551
CREATED:20260423T184744Z
LAST-MODIFIED:20260423T194227Z
UID:5920-1743156000-1743165000@amcham.co.ke
SUMMARY:AmCham Member Networking Cocktail
DESCRIPTION:
URL:https://amcham.co.ke/event/amcham-member-networking-cocktail-5/
LOCATION:Villa Rosa Kempinski
END:VEVENT
END:VCALENDAR