BEGIN:VCALENDAR
VERSION:2.0
PRODID:-//AmCham Kenya - ECPv6.15.20//NONSGML v1.0//EN
CALSCALE:GREGORIAN
METHOD:PUBLISH
X-ORIGINAL-URL:https://amcham.co.ke
X-WR-CALDESC:Events for AmCham Kenya
REFRESH-INTERVAL;VALUE=DURATION:PT1H
X-Robots-Tag:noindex
X-PUBLISHED-TTL:PT1H
BEGIN:VTIMEZONE
TZID:+00:00
END:VTIMEZONE
BEGIN:VEVENT
DTSTART;TZID=+00:00:20241204T030000
DTEND;TZID=+00:00:20241204T050000
DTSTAMP:20260425T152016
CREATED:20260423T184743Z
LAST-MODIFIED:20260423T194228Z
UID:5910-1733281200-1733288400@amcham.co.ke
SUMMARY:Kilifi County Investment Roundtable
DESCRIPTION:
URL:https://amcham.co.ke/event/kilifi-county-investment-roundtable/
LOCATION:Kilifi County
END:VEVENT
BEGIN:VEVENT
DTSTART;TZID=+00:00:20241211T100000
DTEND;TZID=+00:00:20241211T123000
DTSTAMP:20260425T152016
CREATED:20260423T184743Z
LAST-MODIFIED:20260423T194228Z
UID:5912-1733911200-1733920200@amcham.co.ke
SUMMARY:End of Year: Member Networking Cocktail
DESCRIPTION:
URL:https://amcham.co.ke/event/end-of-year-member-networking-cocktail/
LOCATION:Hyatt Regency Nairobi Westlands
END:VEVENT
END:VCALENDAR