BEGIN:VCALENDAR
VERSION:2.0
PRODID:-//AmCham Kenya - ECPv6.15.20//NONSGML v1.0//EN
CALSCALE:GREGORIAN
METHOD:PUBLISH
X-ORIGINAL-URL:https://amcham.co.ke
X-WR-CALDESC:Events for AmCham Kenya
REFRESH-INTERVAL;VALUE=DURATION:PT1H
X-Robots-Tag:noindex
X-PUBLISHED-TTL:PT1H
BEGIN:VTIMEZONE
TZID:+00:00
END:VTIMEZONE
BEGIN:VEVENT
DTSTART;TZID=+00:00:20241011T000000
DTEND;TZID=+00:00:20241011T020000
DTSTAMP:20260425T180424
CREATED:20260423T184741Z
LAST-MODIFIED:20260423T194229Z
UID:5900-1728604800-1728612000@amcham.co.ke
SUMMARY:Tax Forum: Navigating Tax Administration and Dispute Resolution
DESCRIPTION:
URL:https://amcham.co.ke/event/tax-forum-navigating-tax-administration-and-dispute-resolution/
LOCATION:Mövenpick Hotel & Residences Nairobi
END:VEVENT
END:VCALENDAR