BEGIN:VCALENDAR
VERSION:2.0
PRODID:-//AmCham Kenya - ECPv6.15.20//NONSGML v1.0//EN
CALSCALE:GREGORIAN
METHOD:PUBLISH
X-ORIGINAL-URL:https://amcham.co.ke
X-WR-CALDESC:Events for AmCham Kenya
REFRESH-INTERVAL;VALUE=DURATION:PT1H
X-Robots-Tag:noindex
X-PUBLISHED-TTL:PT1H
BEGIN:VTIMEZONE
TZID:+00:00
END:VTIMEZONE
BEGIN:VEVENT
DTSTART;TZID=+00:00:20240905T000000
DTEND;TZID=+00:00:20240905T020000
DTSTAMP:20260425T192132
CREATED:20260423T184741Z
LAST-MODIFIED:20260423T194230Z
UID:5896-1725494400-1725501600@amcham.co.ke
SUMMARY:Health Sector Working Group Session.
DESCRIPTION:
URL:https://amcham.co.ke/event/health-sector-working-group-session/
LOCATION:Tribe Hotel
END:VEVENT
BEGIN:VEVENT
DTSTART;TZID=+00:00:20240905T000000
DTEND;TZID=+00:00:20240906T090000
DTSTAMP:20260425T192132
CREATED:20260423T184741Z
LAST-MODIFIED:20260423T194230Z
UID:5895-1725494400-1725613200@amcham.co.ke
SUMMARY:EAHS AFRICA 2024
DESCRIPTION:With over 80 leading UN Agencies/NGOs in attendance. EAHS Nairobi 2024 will present the private sector with a unique opportunity to engage with senior representatives from the UN & Government Agencies
URL:https://amcham.co.ke/event/eahs-africa-2024/
END:VEVENT
BEGIN:VEVENT
DTSTART;TZID=+00:00:20240926T030000
DTEND;TZID=+00:00:20240926T120000
DTSTAMP:20260425T192132
CREATED:20260423T184741Z
LAST-MODIFIED:20260423T194230Z
UID:5898-1727319600-1727352000@amcham.co.ke
SUMMARY:AmCham Golf Open 2024
DESCRIPTION:
URL:https://amcham.co.ke/event/amcham-golf-open-2024/
LOCATION:Limuru Country Club
END:VEVENT
END:VCALENDAR