BEGIN:VCALENDAR
VERSION:2.0
PRODID:-//AmCham Kenya - ECPv6.15.20//NONSGML v1.0//EN
CALSCALE:GREGORIAN
METHOD:PUBLISH
X-ORIGINAL-URL:https://amcham.co.ke
X-WR-CALDESC:Events for AmCham Kenya
REFRESH-INTERVAL;VALUE=DURATION:PT1H
X-Robots-Tag:noindex
X-PUBLISHED-TTL:PT1H
BEGIN:VTIMEZONE
TZID:+00:00
END:VTIMEZONE
BEGIN:VEVENT
DTSTART;TZID=+00:00:20240712T000000
DTEND;TZID=+00:00:20240712T013000
DTSTAMP:20260425T220748
CREATED:20260423T184740Z
LAST-MODIFIED:20260423T194231Z
UID:5887-1720742400-1720747800@amcham.co.ke
SUMMARY:Risk Mapping\, Business Continuity & Resilience Forum”
DESCRIPTION:
URL:https://amcham.co.ke/event/risk-mapping-business-continuity-resilience-forum/
LOCATION:Hyatt Regency Nairobi Westlands
END:VEVENT
BEGIN:VEVENT
DTSTART;TZID=+00:00:20240731T070000
DTEND;TZID=+00:00:20240731T083000
DTSTAMP:20260425T220748
CREATED:20260423T184740Z
LAST-MODIFIED:20260423T194230Z
UID:5889-1722409200-1722414600@amcham.co.ke
SUMMARY:Doing Business with U.S. Forum: Unlocking East Africa’s Export Potential
DESCRIPTION:
URL:https://amcham.co.ke/event/doing-business-with-u-s-forum-unlocking-east-africas-export-potential/
END:VEVENT
END:VCALENDAR