BEGIN:VCALENDAR
VERSION:2.0
PRODID:-//AmCham Kenya - ECPv6.15.20//NONSGML v1.0//EN
CALSCALE:GREGORIAN
METHOD:PUBLISH
X-WR-CALNAME:AmCham Kenya
X-ORIGINAL-URL:https://amcham.co.ke
X-WR-CALDESC:Events for AmCham Kenya
REFRESH-INTERVAL;VALUE=DURATION:PT1H
X-Robots-Tag:noindex
X-PUBLISHED-TTL:PT1H
BEGIN:VTIMEZONE
TZID:+00:00
END:VTIMEZONE
BEGIN:VTIMEZONE
TZID:Africa/Nairobi
BEGIN:STANDARD
TZOFFSETFROM:+0300
TZOFFSETTO:+0300
TZNAME:EAT
DTSTART:20210101T000000
END:STANDARD
END:VTIMEZONE
BEGIN:VEVENT
DTSTART;TZID=+00:00:20230720T010000
DTEND;TZID=+00:00:20230720T021500
DTSTAMP:20260425T115841
CREATED:20260423T184737Z
LAST-MODIFIED:20260423T194234Z
UID:5854-1689814800-1689819300@amcham.co.ke
SUMMARY:Carbon Markets in Kenya
DESCRIPTION:
URL:https://amcham.co.ke/event/carbon-markets-in-kenya/
END:VEVENT
BEGIN:VEVENT
DTSTART;TZID=+00:00:20230623T093000
DTEND;TZID=+00:00:20230623T120000
DTSTAMP:20260425T115841
CREATED:20260423T184737Z
LAST-MODIFIED:20260423T194234Z
UID:5852-1687512600-1687521600@amcham.co.ke
SUMMARY:AmCham - BCCK Joint Networking Cocktail
DESCRIPTION:
URL:https://amcham.co.ke/event/amcham-bcck-joint-networking-cocktail/
LOCATION:Movenpick Hotel
END:VEVENT
BEGIN:VEVENT
DTSTART;TZID=+00:00:20230530T040000
DTEND;TZID=+00:00:20230530T052000
DTSTAMP:20260425T115841
CREATED:20260423T184737Z
LAST-MODIFIED:20260423T194234Z
UID:5851-1685419200-1685424000@amcham.co.ke
SUMMARY:ACA Virtual Briefing Session
DESCRIPTION:
URL:https://amcham.co.ke/event/aca-virtual-briefing-session/
END:VEVENT
BEGIN:VEVENT
DTSTART;TZID=+00:00:20230526T093000
DTEND;TZID=+00:00:20230526T120000
DTSTAMP:20260425T115841
CREATED:20260423T184736Z
LAST-MODIFIED:20260423T194234Z
UID:5850-1685093400-1685102400@amcham.co.ke
SUMMARY:AmCham Member Networking Cocktail
DESCRIPTION:
URL:https://amcham.co.ke/event/amcham-member-networking-cocktail-4/
LOCATION:Trademark Hotel
END:VEVENT
BEGIN:VEVENT
DTSTART;TZID=+00:00:20230512T010000
DTEND;TZID=+00:00:20230512T023000
DTSTAMP:20260425T115841
CREATED:20260423T184736Z
LAST-MODIFIED:20260423T194235Z
UID:5849-1683853200-1683858600@amcham.co.ke
SUMMARY:Finance Bill 2023/24
DESCRIPTION:
URL:https://amcham.co.ke/event/finance-bill-2023-24/
END:VEVENT
BEGIN:VEVENT
DTSTART;TZID=Africa/Nairobi:20230329T020000
DTEND;TZID=Africa/Nairobi:20230330T130000
DTSTAMP:20260425T115841
CREATED:20260314T111026Z
LAST-MODIFIED:20260314T111026Z
UID:2822-1680055200-1680181200@amcham.co.ke
SUMMARY:3rd AmCham Business Summit
DESCRIPTION:The AmCham Business Summit is a strategic platform for strengthening two-way trade and investment between the U.S. and East Africa. By unleashing the power of private enterprise in driving long-term economic ties\, enhancing trade and promoting investment\, the Summit aims to expand commercial opportunities for U.S.\, Kenyan opportunities to make the connections needed to push business engagements forward. \n \nThe AmCham Business Summit is designed to enhance business-to-business and business-to-government engagement. Featuring high-level sector focused forums\, networking sessions and so much more\, the summit presents exciting possibilities to meet your business objectives. \n \nAfter two successful editions\, the 3rd edition promises a lot more with:  \n \nB2B NETWORKING SESSIONS \nStrengthen your network\, connect with new business contacts and partners and build relationships during dedicated B2B sessions. \n \n \nPLENARY SESSIONS AND EXPERT PANELS \nHear from an exceptional line up of business and government leaders on today’s business challenges. \n \n \nSECTOR FORUMS \nConnect and dialogue with high-level private and public sector players at the Sector Forums and advocate for your business interests. \n \n \nCOUNTRY MEETINGS \nGain country specific insight on trade and investment opportunities from across East African countries. \n \n \nOPPORTUNITY SPACES \nAccess tangible\, pre-vetted investment opportunities\, engage with buyers and sellers from across Kenya\, East Africa and the U.S. and enjoy facilitated matchmaking for business partnerships and opportunities across various sectors.
URL:https://amcham.co.ke/event/3rd-amcham-business-summit-2/
LOCATION:Emara Ole Sereni Convention Centre
END:VEVENT
BEGIN:VEVENT
DTSTART;TZID=Africa/Nairobi:20230329T020000
DTEND;TZID=Africa/Nairobi:20230330T130000
DTSTAMP:20260425T115841
CREATED:20260314T111026Z
LAST-MODIFIED:20260314T111026Z
UID:2823-1680055200-1680181200@amcham.co.ke
SUMMARY:3rd AmCham Business Summit - VIP Registration
DESCRIPTION:The AmCham Business Summit is a strategic platform for strengthening two-way trade and investment between the U.S. and East Africa. By unleashing the power of private enterprise in driving long-term economic ties\, enhancing trade and promoting investment\, the Summit aims to expand commercial opportunities for U.S.\, Kenyan opportunities to make the connections needed to push business engagements forward. \n \nThe AmCham Business Summit is designed to enhance business-to-business and business-to-government engagement. Featuring high-level sector focused forums\, networking sessions and so much more\, the summit presents exciting possibilities to meet your business objectives. \n \nAfter two successful editions\, the 3rd edition promises a lot more with:  \n \nB2B NETWORKING SESSIONS \nStrengthen your network\, connect with new business contacts and partners and build relationships during dedicated B2B sessions. \n \n \nPLENARY SESSIONS AND EXPERT PANELS \nHear from an exceptional line up of business and government leaders on today’s business challenges. \n \n \nSECTOR FORUMS \nConnect and dialogue with high-level private and public sector players at the Sector Forums and advocate for your business interests. \n \n \nCOUNTRY MEETINGS \nGain country specific insight on trade and investment opportunities from across East African countries. \n \n \nOPPORTUNITY SPACES \nAccess tangible\, pre-vetted investment opportunities\, engage with buyers and sellers from across Kenya\, East Africa and the U.S. and enjoy facilitated matchmaking for business partnerships and opportunities across various sectors.
URL:https://amcham.co.ke/event/3rd-amcham-business-summit-vip-registration-2/
LOCATION:Emara Ole Sereni Convention Centre
END:VEVENT
BEGIN:VEVENT
DTSTART;TZID=Africa/Nairobi:20230329T020000
DTEND;TZID=Africa/Nairobi:20230330T130000
DTSTAMP:20260425T115841
CREATED:20260314T111009Z
LAST-MODIFIED:20260314T111009Z
UID:2722-1680055200-1680181200@amcham.co.ke
SUMMARY:3rd AmCham Business Summit
DESCRIPTION:The AmCham Business Summit is a strategic platform for strengthening two-way trade and investment between the U.S. and East Africa. By unleashing the power of private enterprise in driving long-term economic ties\, enhancing trade and promoting investment\, the Summit aims to expand commercial opportunities for U.S.\, Kenyan opportunities to make the connections needed to push business engagements forward. \n \nThe AmCham Business Summit is designed to enhance business-to-business and business-to-government engagement. Featuring high-level sector focused forums\, networking sessions and so much more\, the summit presents exciting possibilities to meet your business objectives. \n \nAfter two successful editions\, the 3rd edition promises a lot more with:  \n \nB2B NETWORKING SESSIONS \nStrengthen your network\, connect with new business contacts and partners and build relationships during dedicated B2B sessions. \n \n \nPLENARY SESSIONS AND EXPERT PANELS \nHear from an exceptional line up of business and government leaders on today’s business challenges. \n \n \nSECTOR FORUMS \nConnect and dialogue with high-level private and public sector players at the Sector Forums and advocate for your business interests. \n \n \nCOUNTRY MEETINGS \nGain country specific insight on trade and investment opportunities from across East African countries. \n \n \nOPPORTUNITY SPACES \nAccess tangible\, pre-vetted investment opportunities\, engage with buyers and sellers from across Kenya\, East Africa and the U.S. and enjoy facilitated matchmaking for business partnerships and opportunities across various sectors.
URL:https://amcham.co.ke/event/3rd-amcham-business-summit/
LOCATION:Emara Ole Sereni Convention Centre
END:VEVENT
BEGIN:VEVENT
DTSTART;TZID=Africa/Nairobi:20230329T020000
DTEND;TZID=Africa/Nairobi:20230330T130000
DTSTAMP:20260425T115841
CREATED:20260314T111009Z
LAST-MODIFIED:20260314T111009Z
UID:2723-1680055200-1680181200@amcham.co.ke
SUMMARY:3rd AmCham Business Summit - VIP Registration
DESCRIPTION:The AmCham Business Summit is a strategic platform for strengthening two-way trade and investment between the U.S. and East Africa. By unleashing the power of private enterprise in driving long-term economic ties\, enhancing trade and promoting investment\, the Summit aims to expand commercial opportunities for U.S.\, Kenyan opportunities to make the connections needed to push business engagements forward. \n \nThe AmCham Business Summit is designed to enhance business-to-business and business-to-government engagement. Featuring high-level sector focused forums\, networking sessions and so much more\, the summit presents exciting possibilities to meet your business objectives. \n \nAfter two successful editions\, the 3rd edition promises a lot more with:  \n \nB2B NETWORKING SESSIONS \nStrengthen your network\, connect with new business contacts and partners and build relationships during dedicated B2B sessions. \n \n \nPLENARY SESSIONS AND EXPERT PANELS \nHear from an exceptional line up of business and government leaders on today’s business challenges. \n \n \nSECTOR FORUMS \nConnect and dialogue with high-level private and public sector players at the Sector Forums and advocate for your business interests. \n \n \nCOUNTRY MEETINGS \nGain country specific insight on trade and investment opportunities from across East African countries. \n \n \nOPPORTUNITY SPACES \nAccess tangible\, pre-vetted investment opportunities\, engage with buyers and sellers from across Kenya\, East Africa and the U.S. and enjoy facilitated matchmaking for business partnerships and opportunities across various sectors.
URL:https://amcham.co.ke/event/3rd-amcham-business-summit-vip-registration/
LOCATION:Emara Ole Sereni Convention Centre
END:VEVENT
BEGIN:VEVENT
DTSTART;TZID=+00:00:20230329T000000
DTEND;TZID=+00:00:20230330T100000
DTSTAMP:20260425T115841
CREATED:20260423T184736Z
LAST-MODIFIED:20260423T194235Z
UID:5848-1680048000-1680170400@amcham.co.ke
SUMMARY:3rd AmCham Business Summit - Speaker Registration
DESCRIPTION:
URL:https://amcham.co.ke/event/3rd-amcham-business-summit-speaker-registration/
LOCATION:Emara Ole Sereni Convention Centre
END:VEVENT
BEGIN:VEVENT
DTSTART;TZID=+00:00:20230328T230000
DTEND;TZID=+00:00:20230330T100000
DTSTAMP:20260425T115841
CREATED:20260423T184736Z
LAST-MODIFIED:20260423T194235Z
UID:5844-1680044400-1680170400@amcham.co.ke
SUMMARY:3rd AmCham Business Summit - Press Registration
DESCRIPTION:
URL:https://amcham.co.ke/event/3rd-amcham-business-summit-press-registration/
LOCATION:Emara Ole Sereni Convention Centre
END:VEVENT
BEGIN:VEVENT
DTSTART;TZID=+00:00:20230328T230000
DTEND;TZID=+00:00:20230330T100000
DTSTAMP:20260425T115841
CREATED:20260423T184736Z
LAST-MODIFIED:20260423T194235Z
UID:5845-1680044400-1680170400@amcham.co.ke
SUMMARY:3rd AmCham Business Summit - Thematic Sessions
DESCRIPTION:
URL:https://amcham.co.ke/event/3rd-amcham-business-summit-thematic-sessions/
LOCATION:Emara Ole Sereni Convention Centre
END:VEVENT
BEGIN:VEVENT
DTSTART;TZID=+00:00:20230328T230000
DTEND;TZID=+00:00:20230330T100000
DTSTAMP:20260425T115841
CREATED:20260423T184736Z
LAST-MODIFIED:20260423T194235Z
UID:5846-1680044400-1680170400@amcham.co.ke
SUMMARY:3rd AmCham Business Summit - Delegate Registration
DESCRIPTION:
URL:https://amcham.co.ke/event/3rd-amcham-business-summit-delegate-registration/
LOCATION:Emara Ole Sereni Convention Centre
END:VEVENT
BEGIN:VEVENT
DTSTART;TZID=+00:00:20230328T230000
DTEND;TZID=+00:00:20230330T100000
DTSTAMP:20260425T115841
CREATED:20260423T184736Z
LAST-MODIFIED:20260423T194235Z
UID:5847-1680044400-1680170400@amcham.co.ke
SUMMARY:3rd AmCham Business Summit - Crew Registration
DESCRIPTION:
URL:https://amcham.co.ke/event/3rd-amcham-business-summit-crew-registration/
LOCATION:Emara Ole Sereni Convention Centre
END:VEVENT
BEGIN:VEVENT
DTSTART;TZID=+00:00:20230328T230000
DTEND;TZID=+00:00:20230330T100000
DTSTAMP:20260425T115841
CREATED:20260314T114720Z
LAST-MODIFIED:20260423T194235Z
UID:2932-1680044400-1680170400@amcham.co.ke
SUMMARY:3rd AmCham Business Summit
DESCRIPTION:
URL:https://amcham.co.ke/event/3rd-amcham-business-summit-3/
LOCATION:Emara Ole Sereni Convention Centre
END:VEVENT
BEGIN:VEVENT
DTSTART;TZID=+00:00:20230328T230000
DTEND;TZID=+00:00:20230330T100000
DTSTAMP:20260425T115841
CREATED:20260314T114720Z
LAST-MODIFIED:20260423T194235Z
UID:2933-1680044400-1680170400@amcham.co.ke
SUMMARY:3rd AmCham Business Summit - VIP Registration
DESCRIPTION:
URL:https://amcham.co.ke/event/3rd-amcham-business-summit-vip-registration-3/
LOCATION:Emara Ole Sereni Convention Centre
END:VEVENT
BEGIN:VEVENT
DTSTART;TZID=Africa/Nairobi:20230322T020000
DTEND;TZID=Africa/Nairobi:20230323T130000
DTSTAMP:20260425T115841
CREATED:20260314T111026Z
LAST-MODIFIED:20260314T111026Z
UID:2821-1679450400-1679576400@amcham.co.ke
SUMMARY:Offline Registrations - 3rd AmCham Business Summit
DESCRIPTION:The AmCham Business Summit is a strategic platform for strengthening two-way trade and investment between the U.S. and East Africa. By unleashing the power of private enterprise in driving long-term economic ties\, enhancing trade and promoting investment\, the Summit aims to expand commercial opportunities for U.S.\, Kenyan opportunities to make the connections needed to push business engagements forward. \n \nThe AmCham Business Summit is designed to enhance business-to-business and business-to-government engagement. Featuring high-level sector focused forums\, networking sessions and so much more\, the summit presents exciting possibilities to meet your business objectives. \n \nAfter two successful editions\, the 3rd edition promises a lot more with:  \n \nB2B NETWORKING SESSIONS \nStrengthen your network\, connect with new business contacts and partners and build relationships during dedicated B2B sessions. \n \n \nPLENARY SESSIONS AND EXPERT PANELS \nHear from an exceptional line up of business and government leaders on today’s business challenges. \n \n \nSECTOR FORUMS \nConnect and dialogue with high-level private and public sector players at the Sector Forums and advocate for your business interests. \n \n \nCOUNTRY MEETINGS \nGain country specific insight on trade and investment opportunities from across East African countries. \n \n \nOPPORTUNITY SPACES \nAccess tangible\, pre-vetted investment opportunities\, engage with buyers and sellers from across Kenya\, East Africa and the U.S. and enjoy facilitated matchmaking for business partnerships and opportunities across various sectors.
URL:https://amcham.co.ke/event/offline-registrations-3rd-amcham-business-summit-2/
LOCATION:Emara Ole Sereni Convention Centre
END:VEVENT
BEGIN:VEVENT
DTSTART;TZID=Africa/Nairobi:20230322T020000
DTEND;TZID=Africa/Nairobi:20230323T130000
DTSTAMP:20260425T115841
CREATED:20260314T111008Z
LAST-MODIFIED:20260314T111008Z
UID:2720-1679450400-1679576400@amcham.co.ke
SUMMARY:Offline Registrations - 3rd AmCham Business Summit
DESCRIPTION:The AmCham Business Summit is a strategic platform for strengthening two-way trade and investment between the U.S. and East Africa. By unleashing the power of private enterprise in driving long-term economic ties\, enhancing trade and promoting investment\, the Summit aims to expand commercial opportunities for U.S.\, Kenyan opportunities to make the connections needed to push business engagements forward. \n \nThe AmCham Business Summit is designed to enhance business-to-business and business-to-government engagement. Featuring high-level sector focused forums\, networking sessions and so much more\, the summit presents exciting possibilities to meet your business objectives. \n \nAfter two successful editions\, the 3rd edition promises a lot more with:  \n \nB2B NETWORKING SESSIONS \nStrengthen your network\, connect with new business contacts and partners and build relationships during dedicated B2B sessions. \n \n \nPLENARY SESSIONS AND EXPERT PANELS \nHear from an exceptional line up of business and government leaders on today’s business challenges. \n \n \nSECTOR FORUMS \nConnect and dialogue with high-level private and public sector players at the Sector Forums and advocate for your business interests. \n \n \nCOUNTRY MEETINGS \nGain country specific insight on trade and investment opportunities from across East African countries. \n \n \nOPPORTUNITY SPACES \nAccess tangible\, pre-vetted investment opportunities\, engage with buyers and sellers from across Kenya\, East Africa and the U.S. and enjoy facilitated matchmaking for business partnerships and opportunities across various sectors.
URL:https://amcham.co.ke/event/offline-registrations-3rd-amcham-business-summit/
LOCATION:Emara Ole Sereni Convention Centre
END:VEVENT
BEGIN:VEVENT
DTSTART;TZID=+00:00:20230321T230000
DTEND;TZID=+00:00:20230323T100000
DTSTAMP:20260425T115841
CREATED:20260314T114720Z
LAST-MODIFIED:20260423T194236Z
UID:2931-1679439600-1679565600@amcham.co.ke
SUMMARY:Offline Registrations - 3rd AmCham Business Summit
DESCRIPTION:
URL:https://amcham.co.ke/event/offline-registrations-3rd-amcham-business-summit-3/
LOCATION:Emara Ole Sereni Convention Centre
END:VEVENT
BEGIN:VEVENT
DTSTART;TZID=Africa/Nairobi:20230210T040000
DTEND;TZID=Africa/Nairobi:20230210T050000
DTSTAMP:20260425T115841
CREATED:20260314T111025Z
LAST-MODIFIED:20260314T111025Z
UID:2820-1676001600-1676005200@amcham.co.ke
SUMMARY:Open Member Forum
DESCRIPTION:We are excited to invite you to engage with us in this specially curated virtual open member forum on Friday\, February 10\, 2023 at 9 – 10am EAT. \n \nThe forum is designed to give you the inside scoop on our priorities for 2023 and provide an opportunity to get your questions answered and reacquaint yourself with the AmCham team. \n \nWe are also keen to hear from you\, all the ways in which we can support you to achieve your business goals. \n \nCLICK HERE TO REGISTER \n \n*This Forum is for AmCham Members Only
URL:https://amcham.co.ke/event/open-member-forum-2/
END:VEVENT
BEGIN:VEVENT
DTSTART;TZID=Africa/Nairobi:20230210T040000
DTEND;TZID=Africa/Nairobi:20230210T050000
DTSTAMP:20260425T115841
CREATED:20260314T111008Z
LAST-MODIFIED:20260314T111008Z
UID:2719-1676001600-1676005200@amcham.co.ke
SUMMARY:Open Member Forum
DESCRIPTION:We are excited to invite you to engage with us in this specially curated virtual open member forum on Friday\, February 10\, 2023 at 9 – 10am EAT. \n \nThe forum is designed to give you the inside scoop on our priorities for 2023 and provide an opportunity to get your questions answered and reacquaint yourself with the AmCham team. \n \nWe are also keen to hear from you\, all the ways in which we can support you to achieve your business goals. \n \nCLICK HERE TO REGISTER \n \n*This Forum is for AmCham Members Only
URL:https://amcham.co.ke/event/open-member-forum/
END:VEVENT
BEGIN:VEVENT
DTSTART;TZID=+00:00:20230210T010000
DTEND;TZID=+00:00:20230210T020000
DTSTAMP:20260425T115841
CREATED:20260314T114719Z
LAST-MODIFIED:20260423T194236Z
UID:2930-1675990800-1675994400@amcham.co.ke
SUMMARY:Open Member Forum
DESCRIPTION:
URL:https://amcham.co.ke/event/open-member-forum-3/
END:VEVENT
BEGIN:VEVENT
DTSTART;TZID=Africa/Nairobi:20230209T123000
DTEND;TZID=Africa/Nairobi:20230209T150000
DTSTAMP:20260425T115841
CREATED:20260314T111025Z
LAST-MODIFIED:20260314T111025Z
UID:2819-1675945800-1675954800@amcham.co.ke
SUMMARY:AmCham Member Networking Cocktail
DESCRIPTION:As we progress further into 2023\, we invite you to join us Thursday\, February 9\, 2023 from 5.30p.m. EAT at Sankara Nairobi – Sarabi Rooftop Restaurant\, for a relaxed evening networking cocktail offering an opportunity to meet and network with fellow AmCham members. \n \n﻿*This event is free to AmCham Kenya members (no cover charge) \n \n**Drinks on cash bar basis \n \n***Non-Members: KES. 2\,500 cover charge \n \n****Registration is mandatory to gain entrance
URL:https://amcham.co.ke/event/amcham-member-networking-cocktail-2/
LOCATION:Sankara Nairobi
END:VEVENT
BEGIN:VEVENT
DTSTART;TZID=Africa/Nairobi:20230209T123000
DTEND;TZID=Africa/Nairobi:20230209T150000
DTSTAMP:20260425T115841
CREATED:20260314T111008Z
LAST-MODIFIED:20260314T111008Z
UID:2718-1675945800-1675954800@amcham.co.ke
SUMMARY:AmCham Member Networking Cocktail
DESCRIPTION:As we progress further into 2023\, we invite you to join us Thursday\, February 9\, 2023 from 5.30p.m. EAT at Sankara Nairobi – Sarabi Rooftop Restaurant\, for a relaxed evening networking cocktail offering an opportunity to meet and network with fellow AmCham members. \n \n﻿*This event is free to AmCham Kenya members (no cover charge) \n \n**Drinks on cash bar basis \n \n***Non-Members: KES. 2\,500 cover charge \n \n****Registration is mandatory to gain entrance
URL:https://amcham.co.ke/event/amcham-member-networking-cocktail/
LOCATION:Sankara Nairobi
END:VEVENT
BEGIN:VEVENT
DTSTART;TZID=+00:00:20230209T093000
DTEND;TZID=+00:00:20230209T120000
DTSTAMP:20260425T115841
CREATED:20260314T114719Z
LAST-MODIFIED:20260423T194236Z
UID:2929-1675935000-1675944000@amcham.co.ke
SUMMARY:AmCham Member Networking Cocktail
DESCRIPTION:
URL:https://amcham.co.ke/event/amcham-member-networking-cocktail-3/
LOCATION:Sankara Nairobi
END:VEVENT
BEGIN:VEVENT
DTSTART;TZID=Africa/Nairobi:20230125T030000
DTEND;TZID=Africa/Nairobi:20230125T043000
DTSTAMP:20260425T115841
CREATED:20260314T111025Z
LAST-MODIFIED:20260314T111025Z
UID:2818-1674615600-1674621000@amcham.co.ke
SUMMARY:2023 Economic Outlook Forum
DESCRIPTION:The AmCham Economic Outlook Forum offers a platform for business leaders to get a prognosis from key policy makers of the year ahead and gain critical insights on economic performance\, trends\, risks and planned interventions to support strategic business decision making. The forum also provides opportunity to dialogue on salient issues impacting business and explore collaborative solutions with policy makers. \n \nThis year’s Forum will also include a special highlight on Kenya – U.S. trade and investment relations and opportunities for enhanced collaborative action to support economic revitalization and growth. \n \nThemes to be covered: \n1) Kenya’s 2023 Macroeconomic Outlook  \n2) Key Economic Drivers\, Risks\, Scenarios and Planned Interventions \n3) Kenya – U.S. Trade and Investment Outlook and Opportunities \n \nCOST: KES. 3\,500 \n \n*This forum is for AmCham Members Only
URL:https://amcham.co.ke/event/2023-economic-outlook-forum-2/
LOCATION:Villa Rosa Kempinski
END:VEVENT
BEGIN:VEVENT
DTSTART;TZID=Africa/Nairobi:20230125T030000
DTEND;TZID=Africa/Nairobi:20230125T043000
DTSTAMP:20260425T115841
CREATED:20260314T111008Z
LAST-MODIFIED:20260314T111008Z
UID:2717-1674615600-1674621000@amcham.co.ke
SUMMARY:2023 Economic Outlook Forum
DESCRIPTION:The AmCham Economic Outlook Forum offers a platform for business leaders to get a prognosis from key policy makers of the year ahead and gain critical insights on economic performance\, trends\, risks and planned interventions to support strategic business decision making. The forum also provides opportunity to dialogue on salient issues impacting business and explore collaborative solutions with policy makers. \n \nThis year’s Forum will also include a special highlight on Kenya – U.S. trade and investment relations and opportunities for enhanced collaborative action to support economic revitalization and growth. \n \nThemes to be covered: \n1) Kenya’s 2023 Macroeconomic Outlook  \n2) Key Economic Drivers\, Risks\, Scenarios and Planned Interventions \n3) Kenya – U.S. Trade and Investment Outlook and Opportunities \n \nCOST: KES. 3\,500 \n \n*This forum is for AmCham Members Only
URL:https://amcham.co.ke/event/2023-economic-outlook-forum/
LOCATION:Villa Rosa Kempinski
END:VEVENT
BEGIN:VEVENT
DTSTART;TZID=+00:00:20230125T000000
DTEND;TZID=+00:00:20230125T013000
DTSTAMP:20260425T115841
CREATED:20260314T114719Z
LAST-MODIFIED:20260423T194236Z
UID:2928-1674604800-1674610200@amcham.co.ke
SUMMARY:2023 Economic Outlook Forum
DESCRIPTION:
URL:https://amcham.co.ke/event/2023-economic-outlook-forum-3/
LOCATION:Villa Rosa Kempinski
END:VEVENT
BEGIN:VEVENT
DTSTART;TZID=Africa/Nairobi:20221118T130000
DTEND;TZID=Africa/Nairobi:20221118T180000
DTSTAMP:20260425T115841
CREATED:20260314T111025Z
LAST-MODIFIED:20260314T111025Z
UID:2817-1668776400-1668794400@amcham.co.ke
SUMMARY:AmCham Thanksgiving Dinner
DESCRIPTION:The AmCham Thanksgiving is an annual\, eagerly anticipated\, exclusive black-tie event that brings together Members\, Friends\, Partners\, Diplomatic Corps and many others for a fun-filled evening in the spirit of the American Thanksgiving Holiday. Over 200 guests are expected at this year’s event with a program featuring fantastic entertainment\, dazzling performances and the highlight of the evening – a scrumptious traditional Thanksgiving feast! \n \nThis year’s event is also a fitting occasion to officially welcome Meg Whitman\, the United States of America Ambassador to Kenya  to the AmCham fraternity. \n \nThe AmCham Thanksgiving is a special time for all of us to come together\, wine\, dine and be merry while reflecting and expressing our gratitude for the year that has been and connect with one another in a relaxed environment. \n \nDRESS CODE: Black Tie \n \nTHEME: Casino Royale \n \nSponsorship opportunities are available\, email Eva Wathome eva@amcham.co.ke for a chat.
URL:https://amcham.co.ke/event/amcham-thanksgiving-dinner-2/
LOCATION:Villa Rosa Kempinski
END:VEVENT
BEGIN:VEVENT
DTSTART;TZID=Africa/Nairobi:20221118T130000
DTEND;TZID=Africa/Nairobi:20221118T180000
DTSTAMP:20260425T115841
CREATED:20260314T111008Z
LAST-MODIFIED:20260314T111008Z
UID:2716-1668776400-1668794400@amcham.co.ke
SUMMARY:AmCham Thanksgiving Dinner
DESCRIPTION:The AmCham Thanksgiving is an annual\, eagerly anticipated\, exclusive black-tie event that brings together Members\, Friends\, Partners\, Diplomatic Corps and many others for a fun-filled evening in the spirit of the American Thanksgiving Holiday. Over 200 guests are expected at this year’s event with a program featuring fantastic entertainment\, dazzling performances and the highlight of the evening – a scrumptious traditional Thanksgiving feast! \n \nThis year’s event is also a fitting occasion to officially welcome Meg Whitman\, the United States of America Ambassador to Kenya  to the AmCham fraternity. \n \nThe AmCham Thanksgiving is a special time for all of us to come together\, wine\, dine and be merry while reflecting and expressing our gratitude for the year that has been and connect with one another in a relaxed environment. \n \nDRESS CODE: Black Tie \n \nTHEME: Casino Royale \n \nSponsorship opportunities are available\, email Eva Wathome eva@amcham.co.ke for a chat.
URL:https://amcham.co.ke/event/amcham-thanksgiving-dinner/
LOCATION:Villa Rosa Kempinski
END:VEVENT
END:VCALENDAR