BEGIN:VCALENDAR
VERSION:2.0
PRODID:-//AmCham Kenya - ECPv6.15.20//NONSGML v1.0//EN
CALSCALE:GREGORIAN
METHOD:PUBLISH
X-WR-CALNAME:AmCham Kenya
X-ORIGINAL-URL:https://amcham.co.ke
X-WR-CALDESC:Events for AmCham Kenya
REFRESH-INTERVAL;VALUE=DURATION:PT1H
X-Robots-Tag:noindex
X-PUBLISHED-TTL:PT1H
BEGIN:VTIMEZONE
TZID:+00:00
END:VTIMEZONE
BEGIN:VEVENT
DTSTART;TZID=+00:00:20240802T000000
DTEND;TZID=+00:00:20240802T013000
DTSTAMP:20260425T104317
CREATED:20260423T184740Z
LAST-MODIFIED:20260423T194230Z
UID:5890-1722556800-1722562200@amcham.co.ke
SUMMARY:Invitation: Manufacturing Sector Working Group Session
DESCRIPTION:
URL:https://amcham.co.ke/event/invitation-manufacturing-sector-working-group-session/
LOCATION:Park Inn By Radisson Nairobi Westlands
END:VEVENT
BEGIN:VEVENT
DTSTART;TZID=+00:00:20240731T070000
DTEND;TZID=+00:00:20240731T083000
DTSTAMP:20260425T104317
CREATED:20260423T184740Z
LAST-MODIFIED:20260423T194230Z
UID:5889-1722409200-1722414600@amcham.co.ke
SUMMARY:Doing Business with U.S. Forum: Unlocking East Africa’s Export Potential
DESCRIPTION:
URL:https://amcham.co.ke/event/doing-business-with-u-s-forum-unlocking-east-africas-export-potential/
END:VEVENT
BEGIN:VEVENT
DTSTART;TZID=+00:00:20240712T000000
DTEND;TZID=+00:00:20240712T013000
DTSTAMP:20260425T104317
CREATED:20260423T184740Z
LAST-MODIFIED:20260423T194231Z
UID:5887-1720742400-1720747800@amcham.co.ke
SUMMARY:Risk Mapping\, Business Continuity & Resilience Forum”
DESCRIPTION:
URL:https://amcham.co.ke/event/risk-mapping-business-continuity-resilience-forum/
LOCATION:Hyatt Regency Nairobi Westlands
END:VEVENT
BEGIN:VEVENT
DTSTART;TZID=+00:00:20240620T020000
DTEND;TZID=+00:00:20240620T033000
DTSTAMP:20260425T104317
CREATED:20260423T184740Z
LAST-MODIFIED:20260423T194231Z
UID:5886-1718848800-1718854200@amcham.co.ke
SUMMARY:Budget Analysis Forum 2024
DESCRIPTION:
URL:https://amcham.co.ke/event/budget-analysis-forum-2024/
END:VEVENT
BEGIN:VEVENT
DTSTART;TZID=+00:00:20240618T010000
DTEND;TZID=+00:00:20240618T030000
DTSTAMP:20260425T104317
CREATED:20260423T184740Z
LAST-MODIFIED:20260423T194231Z
UID:5885-1718672400-1718679600@amcham.co.ke
SUMMARY:17th Annual General Meeting 2024
DESCRIPTION:
URL:https://amcham.co.ke/event/17th-annual-general-meeting-2024/
END:VEVENT
BEGIN:VEVENT
DTSTART;TZID=+00:00:20240531T093000
DTEND;TZID=+00:00:20240531T123000
DTSTAMP:20260425T104317
CREATED:20260423T184740Z
LAST-MODIFIED:20260423T194231Z
UID:5884-1717147800-1717158600@amcham.co.ke
SUMMARY:AmCham - BCCK Joint Networking Cocktail
DESCRIPTION:
URL:https://amcham.co.ke/event/amcham-bcck-joint-networking-cocktail-2/
END:VEVENT
BEGIN:VEVENT
DTSTART;TZID=+00:00:20240524T010000
DTEND;TZID=+00:00:20240524T030000
DTSTAMP:20260425T104317
CREATED:20260423T184740Z
LAST-MODIFIED:20260423T194231Z
UID:5882-1716512400-1716519600@amcham.co.ke
SUMMARY:Invitation: U.S.- Kenya Business Forum\, Washington DC
DESCRIPTION:
URL:https://amcham.co.ke/event/invitation-u-s-kenya-business-forum-washington-dc/
LOCATION:U.S. Chamber of Commerce
END:VEVENT
BEGIN:VEVENT
DTSTART;TZID=+00:00:20240523T020000
DTEND;TZID=+00:00:20240523T040000
DTSTAMP:20260425T104317
CREATED:20260423T184740Z
LAST-MODIFIED:20260423T194231Z
UID:5881-1716429600-1716436800@amcham.co.ke
SUMMARY:Unpacking the Proposed Finance Bill 2024
DESCRIPTION:
URL:https://amcham.co.ke/event/unpacking-the-proposed-finance-bill-2024/
END:VEVENT
BEGIN:VEVENT
DTSTART;TZID=+00:00:20240424T230000
DTEND;TZID=+00:00:20240425T000000
DTSTAMP:20260425T104317
CREATED:20260423T184739Z
LAST-MODIFIED:20260423T194231Z
UID:5880-1713999600-1714003200@amcham.co.ke
SUMMARY:SMEs Digital Skilling for Growth
DESCRIPTION:
URL:https://amcham.co.ke/event/smes-digital-skilling-for-growth/
LOCATION:Windsor Golf Hotel & Country Club
END:VEVENT
BEGIN:VEVENT
DTSTART;TZID=+00:00:20240423T233000
DTEND;TZID=+00:00:20240425T100000
DTSTAMP:20260425T104317
CREATED:20260423T184739Z
LAST-MODIFIED:20260423T194231Z
UID:5879-1713915000-1714039200@amcham.co.ke
SUMMARY:AmCham Business Summit 2024 - Complimentary Registration
DESCRIPTION:
URL:https://amcham.co.ke/event/amcham-business-summit-2024-complimentary-registration/
LOCATION:Windsor Golf Hotel & Country Club
END:VEVENT
BEGIN:VEVENT
DTSTART;TZID=+00:00:20240423T230000
DTEND;TZID=+00:00:20240425T100000
DTSTAMP:20260425T104317
CREATED:20260423T184739Z
LAST-MODIFIED:20260423T194232Z
UID:5875-1713913200-1714039200@amcham.co.ke
SUMMARY:AmCham Business Summit 2024 - Exhibitor Registration
DESCRIPTION:
URL:https://amcham.co.ke/event/amcham-business-summit-2024-exhibitor-registration/
LOCATION:Windsor Golf Hotel & Country Club
END:VEVENT
BEGIN:VEVENT
DTSTART;TZID=+00:00:20240423T230000
DTEND;TZID=+00:00:20240425T100000
DTSTAMP:20260425T104317
CREATED:20260423T184739Z
LAST-MODIFIED:20260423T194232Z
UID:5876-1713913200-1714039200@amcham.co.ke
SUMMARY:AmCham Business Summit 2024 - GOK Registration
DESCRIPTION:
URL:https://amcham.co.ke/event/amcham-business-summit-2024-gok-registration/
LOCATION:Windsor Golf Hotel & Country Club
END:VEVENT
BEGIN:VEVENT
DTSTART;TZID=+00:00:20240423T230000
DTEND;TZID=+00:00:20240425T100000
DTSTAMP:20260425T104317
CREATED:20260423T184739Z
LAST-MODIFIED:20260423T194232Z
UID:5877-1713913200-1714039200@amcham.co.ke
SUMMARY:AmCham Business Summit 2024 - Sponsor Registration
DESCRIPTION:
URL:https://amcham.co.ke/event/amcham-business-summit-2024-sponsor-registration/
LOCATION:Windsor Golf Hotel & Country Club
END:VEVENT
BEGIN:VEVENT
DTSTART;TZID=+00:00:20240423T230000
DTEND;TZID=+00:00:20240425T100000
DTSTAMP:20260425T104317
CREATED:20260423T184739Z
LAST-MODIFIED:20260423T194233Z
UID:5878-1713913200-1714039200@amcham.co.ke
SUMMARY:AmCham Business Summit 2024
DESCRIPTION:
URL:https://amcham.co.ke/event/amcham-business-summit-2024/
LOCATION:Windsor Golf Hotel & Country Club
END:VEVENT
BEGIN:VEVENT
DTSTART;TZID=+00:00:20240423T230000
DTEND;TZID=+00:00:20240425T100000
DTSTAMP:20260425T104317
CREATED:20260423T184739Z
LAST-MODIFIED:20260423T194232Z
UID:5873-1713913200-1714039200@amcham.co.ke
SUMMARY:AmCham Business Summit 2024 - Media Registration
DESCRIPTION:
URL:https://amcham.co.ke/event/amcham-business-summit-2024-media-registration/
LOCATION:Windsor Golf Hotel & Country Club
END:VEVENT
BEGIN:VEVENT
DTSTART;TZID=+00:00:20240423T230000
DTEND;TZID=+00:00:20240425T100000
DTSTAMP:20260425T104317
CREATED:20260423T184739Z
LAST-MODIFIED:20260423T194232Z
UID:5874-1713913200-1714039200@amcham.co.ke
SUMMARY:AmCham Business Summit 2024 - U.S. CEO Registration
DESCRIPTION:
URL:https://amcham.co.ke/event/amcham-business-summit-2024-u-s-ceo-registration/
LOCATION:Windsor Golf Hotel & Country Club
END:VEVENT
BEGIN:VEVENT
DTSTART;TZID=+00:00:20240423T230000
DTEND;TZID=+00:00:20240425T100000
DTSTAMP:20260425T104317
CREATED:20260423T184738Z
LAST-MODIFIED:20260423T194232Z
UID:5868-1713913200-1714039200@amcham.co.ke
SUMMARY:AmCham Business Summit 2024 - U.S. Government Registration
DESCRIPTION:
URL:https://amcham.co.ke/event/amcham-business-summit-2024-u-s-government-registration/
LOCATION:Windsor Golf Hotel & Country Club
END:VEVENT
BEGIN:VEVENT
DTSTART;TZID=+00:00:20240423T230000
DTEND;TZID=+00:00:20240425T100000
DTSTAMP:20260425T104317
CREATED:20260423T184738Z
LAST-MODIFIED:20260423T194232Z
UID:5870-1713913200-1714039200@amcham.co.ke
SUMMARY:AmCham Business Summit 2024 - Texas Africa Chamber of Commerce Registration
DESCRIPTION:
URL:https://amcham.co.ke/event/amcham-business-summit-2024-texas-africa-chamber-of-commerce-registration/
LOCATION:Nairobi
END:VEVENT
BEGIN:VEVENT
DTSTART;TZID=+00:00:20240423T230000
DTEND;TZID=+00:00:20240425T100000
DTSTAMP:20260425T104317
CREATED:20260423T184738Z
LAST-MODIFIED:20260423T194232Z
UID:5871-1713913200-1714039200@amcham.co.ke
SUMMARY:AmCham Business Summit 2024 - Speaker Registration
DESCRIPTION:
URL:https://amcham.co.ke/event/amcham-business-summit-2024-speaker-registration/
LOCATION:Windsor Golf Hotel & Country Club
END:VEVENT
BEGIN:VEVENT
DTSTART;TZID=+00:00:20240305T233000
DTEND;TZID=+00:00:20240306T013000
DTSTAMP:20260425T104317
CREATED:20260423T184738Z
LAST-MODIFIED:20260423T194233Z
UID:5867-1709681400-1709688600@amcham.co.ke
SUMMARY:AmCham Immigration Forum
DESCRIPTION:
URL:https://amcham.co.ke/event/amcham-immigration-forum/
LOCATION:Radisson Blu Arboretum
END:VEVENT
BEGIN:VEVENT
DTSTART;TZID=+00:00:20240228T233000
DTEND;TZID=+00:00:20240229T013000
DTSTAMP:20260425T104317
CREATED:20260423T184738Z
LAST-MODIFIED:20260423T194233Z
UID:5866-1709163000-1709170200@amcham.co.ke
SUMMARY:2024 AmCham Outlook Forum
DESCRIPTION:
URL:https://amcham.co.ke/event/2024-amcham-outlook-forum/
LOCATION:Villa Rosa Kempinski
END:VEVENT
BEGIN:VEVENT
DTSTART;TZID=+00:00:20240216T010000
DTEND;TZID=+00:00:20240216T021500
DTSTAMP:20260425T104317
CREATED:20260423T184738Z
LAST-MODIFIED:20260423T194233Z
UID:5865-1708045200-1708049700@amcham.co.ke
SUMMARY:Open Member Forum
DESCRIPTION:
URL:https://amcham.co.ke/event/open-member-forum-4/
END:VEVENT
BEGIN:VEVENT
DTSTART;TZID=+00:00:20240125T100000
DTEND;TZID=+00:00:20240125T120000
DTSTAMP:20260425T104317
CREATED:20260423T184738Z
LAST-MODIFIED:20260423T194233Z
UID:5864-1706176800-1706184000@amcham.co.ke
SUMMARY:AmCham Networking Cocktail 2024
DESCRIPTION:
URL:https://amcham.co.ke/event/amcham-networking-cocktail-2024/
LOCATION:Trademark Hotel
END:VEVENT
BEGIN:VEVENT
DTSTART;TZID=+00:00:20231205T000000
DTEND;TZID=+00:00:20231205T013000
DTSTAMP:20260425T104317
CREATED:20260423T184738Z
LAST-MODIFIED:20260423T194233Z
UID:5863-1701734400-1701739800@amcham.co.ke
SUMMARY:AmCham - KRA Joint Stakeholder Engagement Forum
DESCRIPTION:
URL:https://amcham.co.ke/event/amcham-kra-joint-stakeholder-engagement-forum/
LOCATION:Sankara Nairobi
END:VEVENT
BEGIN:VEVENT
DTSTART;TZID=+00:00:20231123T000000
DTEND;TZID=+00:00:20231124T100000
DTSTAMP:20260425T104317
CREATED:20260423T184737Z
LAST-MODIFIED:20260423T194233Z
UID:5862-1700697600-1700820000@amcham.co.ke
SUMMARY:EAHS AFRICA
DESCRIPTION:
URL:https://amcham.co.ke/event/eahs-africa/
END:VEVENT
BEGIN:VEVENT
DTSTART;TZID=+00:00:20231110T100000
DTEND;TZID=+00:00:20231110T150000
DTSTAMP:20260425T104317
CREATED:20260423T184737Z
LAST-MODIFIED:20260423T194233Z
UID:5861-1699610400-1699628400@amcham.co.ke
SUMMARY:AmCham Thanksgiving Dinner
DESCRIPTION:
URL:https://amcham.co.ke/event/amcham-thanksgiving-dinner-4/
LOCATION:Trademark Hotel
END:VEVENT
BEGIN:VEVENT
DTSTART;TZID=+00:00:20231109T010000
DTEND;TZID=+00:00:20231110T090000
DTSTAMP:20260425T104317
CREATED:20260423T184737Z
LAST-MODIFIED:20260423T194234Z
UID:5859-1699491600-1699606800@amcham.co.ke
SUMMARY:Fostering Inclusive Workplaces
DESCRIPTION:
URL:https://amcham.co.ke/event/fostering-inclusive-workplaces/
LOCATION:ALN House
END:VEVENT
BEGIN:VEVENT
DTSTART;TZID=+00:00:20230929T023000
DTEND;TZID=+00:00:20230929T120000
DTSTAMP:20260425T104317
CREATED:20260423T184737Z
LAST-MODIFIED:20260423T194234Z
UID:5857-1695954600-1695988800@amcham.co.ke
SUMMARY:AmCham Golf Open 2023
DESCRIPTION:
URL:https://amcham.co.ke/event/amcham-golf-open-2023/
LOCATION:Limuru Country Club
END:VEVENT
BEGIN:VEVENT
DTSTART;TZID=+00:00:20230907T023000
DTEND;TZID=+00:00:20230907T043000
DTSTAMP:20260425T104317
CREATED:20260423T184737Z
LAST-MODIFIED:20260423T194234Z
UID:5856-1694053800-1694061000@amcham.co.ke
SUMMARY:Climate Forum
DESCRIPTION:
URL:https://amcham.co.ke/event/climate-forum/
LOCATION:Fairmont The Norfolk Hotel
END:VEVENT
BEGIN:VEVENT
DTSTART;TZID=+00:00:20230829T010000
DTEND;TZID=+00:00:20230829T033000
DTSTAMP:20260425T104317
CREATED:20260423T184737Z
LAST-MODIFIED:20260423T194234Z
UID:5855-1693270800-1693279800@amcham.co.ke
SUMMARY:Energy Sector Policy Dialogue
DESCRIPTION:
URL:https://amcham.co.ke/event/energy-sector-policy-dialogue/
LOCATION:Trademark Hotel
END:VEVENT
END:VCALENDAR