BEGIN:VCALENDAR
VERSION:2.0
PRODID:-//AmCham Kenya - ECPv6.15.20//NONSGML v1.0//EN
CALSCALE:GREGORIAN
METHOD:PUBLISH
X-WR-CALNAME:AmCham Kenya
X-ORIGINAL-URL:https://amcham.co.ke
X-WR-CALDESC:Events for AmCham Kenya
REFRESH-INTERVAL;VALUE=DURATION:PT1H
X-Robots-Tag:noindex
X-PUBLISHED-TTL:PT1H
BEGIN:VTIMEZONE
TZID:Africa/Nairobi
BEGIN:STANDARD
TZOFFSETFROM:+0300
TZOFFSETTO:+0300
TZNAME:EAT
DTSTART:20200101T000000
END:STANDARD
END:VTIMEZONE
BEGIN:VTIMEZONE
TZID:+00:00
END:VTIMEZONE
BEGIN:VTIMEZONE
TZID:US/Eastern
BEGIN:DAYLIGHT
TZOFFSETFROM:-0500
TZOFFSETTO:-0400
TZNAME:EDT
DTSTART:20200308T070000
END:DAYLIGHT
BEGIN:STANDARD
TZOFFSETFROM:-0400
TZOFFSETTO:-0500
TZNAME:EST
DTSTART:20201101T060000
END:STANDARD
BEGIN:DAYLIGHT
TZOFFSETFROM:-0500
TZOFFSETTO:-0400
TZNAME:EDT
DTSTART:20210314T070000
END:DAYLIGHT
BEGIN:STANDARD
TZOFFSETFROM:-0400
TZOFFSETTO:-0500
TZNAME:EST
DTSTART:20211107T060000
END:STANDARD
BEGIN:DAYLIGHT
TZOFFSETFROM:-0500
TZOFFSETTO:-0400
TZNAME:EDT
DTSTART:20220313T070000
END:DAYLIGHT
BEGIN:STANDARD
TZOFFSETFROM:-0400
TZOFFSETTO:-0500
TZNAME:EST
DTSTART:20221106T060000
END:STANDARD
END:VTIMEZONE
BEGIN:VEVENT
DTSTART;TZID=Africa/Nairobi:20210520T040000
DTEND;TZID=Africa/Nairobi:20210520T050000
DTSTAMP:20260426T021448
CREATED:20260314T111004Z
LAST-MODIFIED:20260314T111004Z
UID:2678-1621483200-1621486800@amcham.co.ke
SUMMARY:The CEO Imperative
DESCRIPTION:The session presents the findings of EY’s third CEO Imperative Study\, created by EYQ\, EY’s think tank. The study is based on a global survey of over 300 chief executives of Forbes Global 2000 companies to understand their perspectives on the DNA of the future enterprise.  \n \nThe first part will focus on the “what” of transformation: the CEOs’ views of what’s driving change in their organizations; their transformation objectives and capability gaps; the likelihood of different business scenarios; and what will comprise the DNA of the future enterprise.  \n \nThe second part of the CEO Imperative report focuses on the “how” of transformation: how to overcome organizational gaps to realize transformation objectives while laying the foundation for long-term value creation.
URL:https://amcham.co.ke/event/the-ceo-imperative/
END:VEVENT
BEGIN:VEVENT
DTSTART;TZID=+00:00:20210520T010000
DTEND;TZID=+00:00:20210520T020000
DTSTAMP:20260426T021448
CREATED:20260314T114714Z
LAST-MODIFIED:20260423T194240Z
UID:2892-1621472400-1621476000@amcham.co.ke
SUMMARY:The CEO Imperative
DESCRIPTION:
URL:https://amcham.co.ke/event/the-ceo-imperative-3/
END:VEVENT
BEGIN:VEVENT
DTSTART;TZID=Africa/Nairobi:20210428T110000
DTEND;TZID=Africa/Nairobi:20210428T120000
DTSTAMP:20260426T021448
CREATED:20260314T111020Z
LAST-MODIFIED:20260314T111020Z
UID:2781-1619607600-1619611200@amcham.co.ke
SUMMARY:Report Launch - U.S.- Kenya Trade Negotiations: Implications for the Future of the U.S.-Africa Trade Relationship
DESCRIPTION:AmCham Kenya\, in partnership with U.S. Chamber’s U.S.-Africa Business Center and Covington\, cordially invite you to the U.S. – Kenya Trade Report Launch on Wednesday\, April 28\, 2021\, 4 – 5p.m. EAT | 9 – 10a.m. EST.  \n﻿ \n\n This event is the culmination of a year’s worth of private and public sector interviews on the future of the U.S.-Kenya trade relationship\, showcasing report findings highlighting the opportunities and risks associated with continued U.S.-Kenya FTA negotiations with business and government leaders. The event will feature perspective of corporate executives and thought leaders who will discuss the implications of this agreement and opportunities for growth.
URL:https://amcham.co.ke/event/report-launch-u-s-kenya-trade-negotiations-implications-for-the-future-of-the-u-s-africa-trade-relationship-2/
END:VEVENT
BEGIN:VEVENT
DTSTART;TZID=Africa/Nairobi:20210428T110000
DTEND;TZID=Africa/Nairobi:20210428T120000
DTSTAMP:20260426T021448
CREATED:20260314T111004Z
LAST-MODIFIED:20260314T111004Z
UID:2677-1619607600-1619611200@amcham.co.ke
SUMMARY:Report Launch - U.S.- Kenya Trade Negotiations: Implications for the Future of the U.S.-Africa Trade Relationship
DESCRIPTION:AmCham Kenya\, in partnership with U.S. Chamber’s U.S.-Africa Business Center and Covington\, cordially invite you to the U.S. – Kenya Trade Report Launch on Wednesday\, April 28\, 2021\, 4 – 5p.m. EAT | 9 – 10a.m. EST.  \n﻿ \n\n This event is the culmination of a year’s worth of private and public sector interviews on the future of the U.S.-Kenya trade relationship\, showcasing report findings highlighting the opportunities and risks associated with continued U.S.-Kenya FTA negotiations with business and government leaders. The event will feature perspective of corporate executives and thought leaders who will discuss the implications of this agreement and opportunities for growth.
URL:https://amcham.co.ke/event/report-launch-u-s-kenya-trade-negotiations-implications-for-the-future-of-the-u-s-africa-trade-relationship/
END:VEVENT
BEGIN:VEVENT
DTSTART;TZID=+00:00:20210428T080000
DTEND;TZID=+00:00:20210428T090000
DTSTAMP:20260426T021448
CREATED:20260314T114714Z
LAST-MODIFIED:20260423T194240Z
UID:2891-1619596800-1619600400@amcham.co.ke
SUMMARY:Report Launch - U.S.- Kenya Trade Negotiations: Implications for the Future of the U.S.-Africa Trade Relationship
DESCRIPTION:
URL:https://amcham.co.ke/event/report-launch-u-s-kenya-trade-negotiations-implications-for-the-future-of-the-u-s-africa-trade-relationship-3/
END:VEVENT
BEGIN:VEVENT
DTSTART;TZID=Africa/Nairobi:20210423T050000
DTEND;TZID=Africa/Nairobi:20210423T063000
DTSTAMP:20260426T021448
CREATED:20260314T111020Z
LAST-MODIFIED:20260314T111020Z
UID:2780-1619154000-1619159400@amcham.co.ke
SUMMARY:Building a Foundation for Personal/Company Development
DESCRIPTION:Join us April 23\, 2021 10 – 11:30a.m. EAT for a mini workshop in partnership with Leadership Management International (LMI) on how you can build a foundation for personal/or company development. \n \nTopics Covered \n\nRationale for personal or company development\nBenefits for personal or company development\nFoundations for Developing Employees\nMarket Changes Affecting the Need for Developing Employees\nBenefits of Employee Engagement\nCost of Employee Development versus the Cost of Doing Nothing\nUse of Profile Assessments to Learn About Individual Development Needs.\n\n \nThe session is designed to encourage interaction between participants and to get you started on your personal/or company development journey.
URL:https://amcham.co.ke/event/building-a-foundation-for-personal-company-development-2/
END:VEVENT
BEGIN:VEVENT
DTSTART;TZID=Africa/Nairobi:20210423T050000
DTEND;TZID=Africa/Nairobi:20210423T063000
DTSTAMP:20260426T021448
CREATED:20260314T111004Z
LAST-MODIFIED:20260314T111004Z
UID:2676-1619154000-1619159400@amcham.co.ke
SUMMARY:Building a Foundation for Personal/Company Development
DESCRIPTION:Join us April 23\, 2021 10 – 11:30a.m. EAT for a mini workshop in partnership with Leadership Management International (LMI) on how you can build a foundation for personal/or company development. \n \nTopics Covered \n\nRationale for personal or company development\nBenefits for personal or company development\nFoundations for Developing Employees\nMarket Changes Affecting the Need for Developing Employees\nBenefits of Employee Engagement\nCost of Employee Development versus the Cost of Doing Nothing\nUse of Profile Assessments to Learn About Individual Development Needs.\n\n \nThe session is designed to encourage interaction between participants and to get you started on your personal/or company development journey.
URL:https://amcham.co.ke/event/building-a-foundation-for-personal-company-development/
END:VEVENT
BEGIN:VEVENT
DTSTART;TZID=+00:00:20210423T020000
DTEND;TZID=+00:00:20210423T033000
DTSTAMP:20260426T021448
CREATED:20260314T114714Z
LAST-MODIFIED:20260423T194241Z
UID:2890-1619143200-1619148600@amcham.co.ke
SUMMARY:Building a Foundation for Personal/Company Development
DESCRIPTION:
URL:https://amcham.co.ke/event/building-a-foundation-for-personal-company-development-3/
END:VEVENT
BEGIN:VEVENT
DTSTART;TZID=Africa/Nairobi:20210420T053000
DTEND;TZID=Africa/Nairobi:20210420T070000
DTSTAMP:20260426T021448
CREATED:20260314T111020Z
LAST-MODIFIED:20260314T111020Z
UID:2779-1618896600-1618902000@amcham.co.ke
SUMMARY:AfCFTA Private Sector Sensitization Forum
DESCRIPTION:With trading under the African Continental Free Trade Area (AfCFTA) having commenced on 1st January\, 2021\, it is expected that State Parties will begin to align their customs procedures and provide customs documentations for exports under the AfCFTA. \n \nTo facilitate the private sector harnessing opportunities in the continental market information dissemination on market access for both trade in goods and services is vital. \n \nJoin us April 20\, 2021 at 10.30 – 12noon EAT for a sensitization forum with the State Department for Trade and Enterprise Development on the AfCFTA with the aim to:  \n \n\nProvide a clear understanding of the market opportunities and expectations in the AfCFTA\nOutline Kenya’s position and preparedness for trading under the AfCFTA.\nDetail measures to fill gaps and address challenges to the implementation of the AfCFTA and uptake of the opportunities for continental trade.\n\n \nThe forum will also include engagement with the following government agencies related to the AfCFTA: \n \n\nThe Kenya Revenue Authority\nThe Kenya Bureau of Standards\nKenya Trade Network Agency (KenTrade)
URL:https://amcham.co.ke/event/afcfta-private-sector-sensitization-forum-2/
END:VEVENT
BEGIN:VEVENT
DTSTART;TZID=Africa/Nairobi:20210420T053000
DTEND;TZID=Africa/Nairobi:20210420T070000
DTSTAMP:20260426T021448
CREATED:20260314T111004Z
LAST-MODIFIED:20260314T111004Z
UID:2675-1618896600-1618902000@amcham.co.ke
SUMMARY:AfCFTA Private Sector Sensitization Forum
DESCRIPTION:With trading under the African Continental Free Trade Area (AfCFTA) having commenced on 1st January\, 2021\, it is expected that State Parties will begin to align their customs procedures and provide customs documentations for exports under the AfCFTA. \n \nTo facilitate the private sector harnessing opportunities in the continental market information dissemination on market access for both trade in goods and services is vital. \n \nJoin us April 20\, 2021 at 10.30 – 12noon EAT for a sensitization forum with the State Department for Trade and Enterprise Development on the AfCFTA with the aim to:  \n \n\nProvide a clear understanding of the market opportunities and expectations in the AfCFTA\nOutline Kenya’s position and preparedness for trading under the AfCFTA.\nDetail measures to fill gaps and address challenges to the implementation of the AfCFTA and uptake of the opportunities for continental trade.\n\n \nThe forum will also include engagement with the following government agencies related to the AfCFTA: \n \n\nThe Kenya Revenue Authority\nThe Kenya Bureau of Standards\nKenya Trade Network Agency (KenTrade)
URL:https://amcham.co.ke/event/afcfta-private-sector-sensitization-forum/
END:VEVENT
BEGIN:VEVENT
DTSTART;TZID=+00:00:20210420T023000
DTEND;TZID=+00:00:20210420T040000
DTSTAMP:20260426T021448
CREATED:20260314T114714Z
LAST-MODIFIED:20260423T194241Z
UID:2889-1618885800-1618891200@amcham.co.ke
SUMMARY:AfCFTA Private Sector Sensitization Forum
DESCRIPTION:
URL:https://amcham.co.ke/event/afcfta-private-sector-sensitization-forum-3/
END:VEVENT
BEGIN:VEVENT
DTSTART;TZID=+00:00:20210325T010000
DTEND;TZID=+00:00:20210325T023000
DTSTAMP:20260426T021448
CREATED:20260314T114714Z
LAST-MODIFIED:20260423T194241Z
UID:2888-1616634000-1616639400@amcham.co.ke
SUMMARY:14th Annual General Meeting
DESCRIPTION:
URL:https://amcham.co.ke/event/14th-annual-general-meeting-3/
LOCATION:Via Videoconference
END:VEVENT
BEGIN:VEVENT
DTSTART;TZID=US/Eastern:20210324T210000
DTEND;TZID=US/Eastern:20210324T223000
DTSTAMP:20260426T021448
CREATED:20260314T111020Z
LAST-MODIFIED:20260314T111020Z
UID:2778-1616619600-1616625000@amcham.co.ke
SUMMARY:14th Annual General Meeting
DESCRIPTION:
URL:https://amcham.co.ke/event/14th-annual-general-meeting-2/
LOCATION:Via Videoconference
END:VEVENT
BEGIN:VEVENT
DTSTART;TZID=US/Eastern:20210324T210000
DTEND;TZID=US/Eastern:20210324T223000
DTSTAMP:20260426T021448
CREATED:20260314T111003Z
LAST-MODIFIED:20260314T111003Z
UID:2673-1616619600-1616625000@amcham.co.ke
SUMMARY:14th Annual General Meeting
DESCRIPTION:
URL:https://amcham.co.ke/event/14th-annual-general-meeting/
LOCATION:Via Videoconference
END:VEVENT
BEGIN:VEVENT
DTSTART;TZID=Africa/Nairobi:20210316T030000
DTEND;TZID=Africa/Nairobi:20210316T040000
DTSTAMP:20260426T021448
CREATED:20260314T111020Z
LAST-MODIFIED:20260314T111020Z
UID:2777-1615863600-1615867200@amcham.co.ke
SUMMARY:The African Continental Free Trade Area
DESCRIPTION:A Flagship project of the African Union Agenda 2063\, the Africa Continental Free Trade Area (AfCFTA) creates a market of 1.3 billion people and a combined GDP of $3.4 trillion. A reported 81% of goods can start being traded under preferential terms while approx. 20% continue to be negotiated with plans to conclude by July 2021. \n \nAs African Nations begin to walk the journey towards a zero tariffs zone\, what does the road to implementation look like? \n \nJoin us for a briefing with the Secretary General of the African Continental Free Trade Area Secretariat\, H.E. Wamkele Mene on: \n \n\nProgress and steps for trading under the AfCFTA;\nPriorities & expectations on timelines towards zero tariff trading; and\nPolicy/regulatory changes preceding successful implementation of the AfCFTA.
URL:https://amcham.co.ke/event/the-african-continental-free-trade-area-2/
LOCATION:Radisson Blu Arboretum
END:VEVENT
BEGIN:VEVENT
DTSTART;TZID=+00:00:20210316T000000
DTEND;TZID=+00:00:20210316T010000
DTSTAMP:20260426T021448
CREATED:20260314T114714Z
LAST-MODIFIED:20260423T194241Z
UID:2887-1615852800-1615856400@amcham.co.ke
SUMMARY:The African Continental Free Trade Area
DESCRIPTION:
URL:https://amcham.co.ke/event/the-african-continental-free-trade-area-5/
LOCATION:Radisson Blu Arboretum
END:VEVENT
BEGIN:VEVENT
DTSTART;TZID=Africa/Nairobi:20210312T120000
DTEND;TZID=Africa/Nairobi:20210312T143000
DTSTAMP:20260426T021448
CREATED:20260314T111020Z
LAST-MODIFIED:20260314T111020Z
UID:2776-1615550400-1615559400@amcham.co.ke
SUMMARY:AmCham Business Social
DESCRIPTION:The AmCham Business Social offers great opportunities to get to know and engage with members of the AmCham Community. Come network in a relaxed\, informal business gathering on March 12\, 2021 at 5p.m. \n \n \n*This event is open and free to all AmCham members in good standing.
URL:https://amcham.co.ke/event/amcham-business-social-4/
LOCATION:The Address
END:VEVENT
BEGIN:VEVENT
DTSTART;TZID=Africa/Nairobi:20210312T120000
DTEND;TZID=Africa/Nairobi:20210312T143000
DTSTAMP:20260426T021448
CREATED:20260314T110955Z
LAST-MODIFIED:20260314T111003Z
UID:2602-1615550400-1615559400@amcham.co.ke
SUMMARY:AmCham Business Social
DESCRIPTION:The AmCham Business Social offers great opportunities to get to know and engage with members of the AmCham Community. Come network in a relaxed\, informal business gathering on March 12\, 2021 at 5p.m. \n \n \n*This event is open and free to all AmCham members in good standing.
URL:https://amcham.co.ke/event/amcham-business-social/
LOCATION:The Address
END:VEVENT
BEGIN:VEVENT
DTSTART;TZID=+00:00:20210312T090000
DTEND;TZID=+00:00:20210312T113000
DTSTAMP:20260426T021448
CREATED:20260314T114713Z
LAST-MODIFIED:20260423T194241Z
UID:2886-1615539600-1615548600@amcham.co.ke
SUMMARY:AmCham Business Social
DESCRIPTION:The AmCham Business Social offers great opportunities to get to know and engage with members of the AmCham Community. Come  network in a relaxed\, informal business gathering on March 12\, 2021 at 5p.m.
URL:https://amcham.co.ke/event/amcham-business-social-7/
LOCATION:The Address
END:VEVENT
BEGIN:VEVENT
DTSTART;TZID=Africa/Nairobi:20210218T110000
DTEND;TZID=Africa/Nairobi:20210218T120000
DTSTAMP:20260426T021448
CREATED:20260314T111019Z
LAST-MODIFIED:20260314T111019Z
UID:2775-1613646000-1613649600@amcham.co.ke
SUMMARY:The Biden-Harris Administration - First 100 Days
DESCRIPTION:The coming into office of the Biden-Harris administration has sparked an overall positive response from Business\, and more so Africa. While it is impossible to identify one unifying expectation across the continent\, the general expectation is that of a return to diplomacy\, multilateral cooperation\, promotion of democracy and good governance – What does this translate to for Business? \nThis forum aims to share critical insights\, analysis and create understanding around critical business issues to take into consideration as the new administration takes shape and will include: \n \n\nAn overview of the Biden-Harris administration’s key priorities.\nAnalysis of possible Biden-Harris administration’s Africa trade & investment priorities.\nA highlight of possible policy changes that might impact the U.S.- Africa commercial relationship.\n\n \nJoin the discussion\, February 18\, 2021 at 4pm EAT* \n \n \n*This event is for AmCham Members Only
URL:https://amcham.co.ke/event/the-biden-harris-administration-first-100-days-2/
END:VEVENT
BEGIN:VEVENT
DTSTART;TZID=Africa/Nairobi:20210218T110000
DTEND;TZID=Africa/Nairobi:20210218T120000
DTSTAMP:20260426T021448
CREATED:20260314T111003Z
LAST-MODIFIED:20260314T111003Z
UID:2668-1613646000-1613649600@amcham.co.ke
SUMMARY:The Biden-Harris Administration - First 100 Days
DESCRIPTION:The coming into office of the Biden-Harris administration has sparked an overall positive response from Business\, and more so Africa. While it is impossible to identify one unifying expectation across the continent\, the general expectation is that of a return to diplomacy\, multilateral cooperation\, promotion of democracy and good governance – What does this translate to for Business? \nThis forum aims to share critical insights\, analysis and create understanding around critical business issues to take into consideration as the new administration takes shape and will include: \n \n\nAn overview of the Biden-Harris administration’s key priorities.\nAnalysis of possible Biden-Harris administration’s Africa trade & investment priorities.\nA highlight of possible policy changes that might impact the U.S.- Africa commercial relationship.\n\n \nJoin the discussion\, February 18\, 2021 at 4pm EAT* \n \n \n*This event is for AmCham Members Only
URL:https://amcham.co.ke/event/the-biden-harris-administration-first-100-days/
END:VEVENT
BEGIN:VEVENT
DTSTART;TZID=+00:00:20210218T080000
DTEND;TZID=+00:00:20210218T090000
DTSTAMP:20260426T021448
CREATED:20260314T114713Z
LAST-MODIFIED:20260423T194241Z
UID:2885-1613635200-1613638800@amcham.co.ke
SUMMARY:The Biden-Harris Administration - First 100 Days
DESCRIPTION:
URL:https://amcham.co.ke/event/the-biden-harris-administration-first-100-days-3/
END:VEVENT
BEGIN:VEVENT
DTSTART;TZID=Africa/Nairobi:20210217T110000
DTEND;TZID=Africa/Nairobi:20210217T120000
DTSTAMP:20260426T021448
CREATED:20260314T111019Z
LAST-MODIFIED:20260314T111019Z
UID:2774-1613559600-1613563200@amcham.co.ke
SUMMARY:Virtual Roundtable Consultative Meeting with USDA\, USTR and Food & Agriculture Export Alliance (FAEA)
DESCRIPTION:We will be hosting a roundtable consultative meeting with the Agriculture Counsellor\, USDA; Senior Director\, Agricultural Affairs Office of the U.S. Trade Representative and Executive Director\, Food and Agriculture Export Alliance. \n \nThe session will provide opportunity to surface and amplify key business environment related issues as well as learn of administrative priorities as relates to the sector.
URL:https://amcham.co.ke/event/virtual-roundtable-consultative-meeting-with-usda-ustr-and-food-agriculture-export-alliance-faea-2/
END:VEVENT
BEGIN:VEVENT
DTSTART;TZID=Africa/Nairobi:20210217T110000
DTEND;TZID=Africa/Nairobi:20210217T120000
DTSTAMP:20260426T021448
CREATED:20260314T111003Z
LAST-MODIFIED:20260314T111003Z
UID:2667-1613559600-1613563200@amcham.co.ke
SUMMARY:Virtual Roundtable Consultative Meeting with USDA\, USTR and Food & Agriculture Export Alliance (FAEA)
DESCRIPTION:We will be hosting a roundtable consultative meeting with the Agriculture Counsellor\, USDA; Senior Director\, Agricultural Affairs Office of the U.S. Trade Representative and Executive Director\, Food and Agriculture Export Alliance. \n \nThe session will provide opportunity to surface and amplify key business environment related issues as well as learn of administrative priorities as relates to the sector.
URL:https://amcham.co.ke/event/virtual-roundtable-consultative-meeting-with-usda-ustr-and-food-agriculture-export-alliance-faea/
END:VEVENT
BEGIN:VEVENT
DTSTART;TZID=+00:00:20210217T080000
DTEND;TZID=+00:00:20210217T090000
DTSTAMP:20260426T021448
CREATED:20260314T114713Z
LAST-MODIFIED:20260423T194241Z
UID:2884-1613548800-1613552400@amcham.co.ke
SUMMARY:Virtual Roundtable Consultative Meeting with USDA\, USTR and Food & Agriculture Export Alliance (FAEA)
DESCRIPTION:
URL:https://amcham.co.ke/event/virtual-roundtable-consultative-meeting-with-usda-ustr-and-food-agriculture-export-alliance-faea-3/
END:VEVENT
BEGIN:VEVENT
DTSTART;TZID=Africa/Nairobi:20210211T050000
DTEND;TZID=Africa/Nairobi:20210211T063000
DTSTAMP:20260426T021448
CREATED:20260314T114713Z
LAST-MODIFIED:20260314T114713Z
UID:2883-1613019600-1613025000@amcham.co.ke
SUMMARY:2021 Economic Outlook Forum
DESCRIPTION:A platform for business leaders to get a prognosis from key policy makers of the year ahead and gain critical insights that would support strategic business decision making. The forum also provides opportunity to broach salient issues impacting business and explore collaborative solutions with policy makers. \n \nAccording to the World Bank\, Kenya’s economy is projected to grow by 6.9% in 2021 (arguably the highest in Africa). This optimistic view is backed by the country’s strong macro fundamentals that the bank is tracking\, some of which are captured in the recently released World Bank Kenya Economic Update. \n \nJoin us as we unpack and take a deep-dive into the World Bank’s unique perspective on the economic impacts\, performance and imperatives for Kenya’s much needed economic recovery given the COVID-19 reality. \n \n \nKey themes to be covered: \n \n1) Kenya’s 2021 macro economic outlook (including a high-level E.A overview) \n2) Key Economic Drivers\, Risks and Scenarios (including alternative paths) \n3) Policy priorities\, Reform considerations\, Gaps and realities \n4) Micro-level economic data and perspectives
URL:https://amcham.co.ke/event/2021-economic-outlook-forum-3/
END:VEVENT
BEGIN:VEVENT
DTSTART;TZID=Africa/Nairobi:20210211T050000
DTEND;TZID=Africa/Nairobi:20210211T063000
DTSTAMP:20260426T021448
CREATED:20260314T111019Z
LAST-MODIFIED:20260314T111019Z
UID:2773-1613019600-1613025000@amcham.co.ke
SUMMARY:2021 Economic Outlook Forum
DESCRIPTION:A platform for business leaders to get a prognosis from key policy makers of the year ahead and gain critical insights that would support strategic business decision making. The forum also provides opportunity to broach salient issues impacting business and explore collaborative solutions with policy makers. \n \nAccording to the World Bank\, Kenya’s economy is projected to grow by 6.9% in 2021 (arguably the highest in Africa). This optimistic view is backed by the country’s strong macro fundamentals that the bank is tracking\, some of which are captured in the recently released World Bank Kenya Economic Update. \n \nJoin us as we unpack and take a deep-dive into the World Bank’s unique perspective on the economic impacts\, performance and imperatives for Kenya’s much needed economic recovery given the COVID-19 reality. \n \n \nKey themes to be covered: \n \n1) Kenya’s 2021 macro economic outlook (including a high-level E.A overview) \n2) Key Economic Drivers\, Risks and Scenarios (including alternative paths) \n3) Policy priorities\, Reform considerations\, Gaps and realities \n4) Micro-level economic data and perspectives
URL:https://amcham.co.ke/event/2021-economic-outlook-forum-2/
END:VEVENT
BEGIN:VEVENT
DTSTART;TZID=Africa/Nairobi:20210211T050000
DTEND;TZID=Africa/Nairobi:20210211T063000
DTSTAMP:20260426T021448
CREATED:20260314T111003Z
LAST-MODIFIED:20260314T111003Z
UID:2666-1613019600-1613025000@amcham.co.ke
SUMMARY:2021 Economic Outlook Forum
DESCRIPTION:A platform for business leaders to get a prognosis from key policy makers of the year ahead and gain critical insights that would support strategic business decision making. The forum also provides opportunity to broach salient issues impacting business and explore collaborative solutions with policy makers. \n \nAccording to the World Bank\, Kenya’s economy is projected to grow by 6.9% in 2021 (arguably the highest in Africa). This optimistic view is backed by the country’s strong macro fundamentals that the bank is tracking\, some of which are captured in the recently released World Bank Kenya Economic Update. \n \nJoin us as we unpack and take a deep-dive into the World Bank’s unique perspective on the economic impacts\, performance and imperatives for Kenya’s much needed economic recovery given the COVID-19 reality. \n \n \nKey themes to be covered: \n \n1) Kenya’s 2021 macro economic outlook (including a high-level E.A overview) \n2) Key Economic Drivers\, Risks and Scenarios (including alternative paths) \n3) Policy priorities\, Reform considerations\, Gaps and realities \n4) Micro-level economic data and perspectives
URL:https://amcham.co.ke/event/2021-economic-outlook-forum/
END:VEVENT
BEGIN:VEVENT
DTSTART;TZID=+00:00:20210211T020000
DTEND;TZID=+00:00:20210211T033000
DTSTAMP:20260426T021448
CREATED:20260315T084529Z
LAST-MODIFIED:20260423T194242Z
UID:2993-1613008800-1613014200@amcham.co.ke
SUMMARY:2021 Economic Outlook Forum
DESCRIPTION:
URL:https://amcham.co.ke/event/2021-economic-outlook-forum-4/
END:VEVENT
BEGIN:VEVENT
DTSTART;TZID=Africa/Nairobi:20210129T050000
DTEND;TZID=Africa/Nairobi:20210129T060000
DTSTAMP:20260426T021448
CREATED:20260314T114713Z
LAST-MODIFIED:20260314T114713Z
UID:2882-1611896400-1611900000@amcham.co.ke
SUMMARY:Know your AmCham
DESCRIPTION:As we kick off 2021\, we are excited to invite you to engage with us in this specially curated virtual open member forum on Friday\, January 29\, 2020 at 10am EAT. \n \nThe forum is designed to give you the inside scoop on: \n\nOur priorities for 2021\nWhat’s New\nWhat’s Different\, and\nWhat’s Coming Soon\n\n \nIt will also be an opportunity to get your questions answered and reacquaint yourself with the AmCham team and all the ways in which your membership can support your business goals.
URL:https://amcham.co.ke/event/know-your-amcham-4/
END:VEVENT
END:VCALENDAR