BEGIN:VCALENDAR
VERSION:2.0
PRODID:-//AmCham Kenya - ECPv6.15.20//NONSGML v1.0//EN
CALSCALE:GREGORIAN
METHOD:PUBLISH
X-WR-CALNAME:AmCham Kenya
X-ORIGINAL-URL:https://amcham.co.ke
X-WR-CALDESC:Events for AmCham Kenya
REFRESH-INTERVAL;VALUE=DURATION:PT1H
X-Robots-Tag:noindex
X-PUBLISHED-TTL:PT1H
BEGIN:VTIMEZONE
TZID:Africa/Nairobi
BEGIN:STANDARD
TZOFFSETFROM:+0300
TZOFFSETTO:+0300
TZNAME:EAT
DTSTART:20200101T000000
END:STANDARD
END:VTIMEZONE
BEGIN:VTIMEZONE
TZID:+00:00
END:VTIMEZONE
BEGIN:VTIMEZONE
TZID:Asia/Dubai
BEGIN:STANDARD
TZOFFSETFROM:+0400
TZOFFSETTO:+0400
TZNAME:+04
DTSTART:20200101T000000
END:STANDARD
END:VTIMEZONE
BEGIN:VEVENT
DTSTART;TZID=Africa/Nairobi:20210803T040000
DTEND;TZID=Africa/Nairobi:20210803T051500
DTSTAMP:20260426T022219
CREATED:20260314T111005Z
LAST-MODIFIED:20260314T111005Z
UID:2685-1627963200-1627967700@amcham.co.ke
SUMMARY:STATE OF THE ECONOMY
DESCRIPTION:Join us for an update on Kenya’s economic performance\, Key business indicators and fundamentals for economic recovery. \n \n \n*This event is for AmCham Members Only
URL:https://amcham.co.ke/event/state-of-the-economy/
END:VEVENT
BEGIN:VEVENT
DTSTART;TZID=+00:00:20210803T010000
DTEND;TZID=+00:00:20210803T021500
DTSTAMP:20260426T022219
CREATED:20260314T114715Z
LAST-MODIFIED:20260423T194240Z
UID:2899-1627952400-1627956900@amcham.co.ke
SUMMARY:STATE OF THE ECONOMY
DESCRIPTION:
URL:https://amcham.co.ke/event/state-of-the-economy-3/
END:VEVENT
BEGIN:VEVENT
DTSTART;TZID=Asia/Dubai:20210726T060000
DTEND;TZID=Asia/Dubai:20210726T070000
DTSTAMP:20260426T022219
CREATED:20260314T111021Z
LAST-MODIFIED:20260314T111021Z
UID:2788-1627279200-1627282800@amcham.co.ke
SUMMARY:State of Trade: Briefing with Ministry of Industrialization\, Trade and Enterprise Development
DESCRIPTION:
URL:https://amcham.co.ke/event/state-of-trade-briefing-with-ministry-of-industrialization-trade-and-enterprise-development-2/
END:VEVENT
BEGIN:VEVENT
DTSTART;TZID=Asia/Dubai:20210726T060000
DTEND;TZID=Asia/Dubai:20210726T070000
DTSTAMP:20260426T022219
CREATED:20260314T111005Z
LAST-MODIFIED:20260314T111005Z
UID:2684-1627279200-1627282800@amcham.co.ke
SUMMARY:State of Trade: Briefing with Ministry of Industrialization\, Trade and Enterprise Development
DESCRIPTION:
URL:https://amcham.co.ke/event/state-of-trade-briefing-with-ministry-of-industrialization-trade-and-enterprise-development/
END:VEVENT
BEGIN:VEVENT
DTSTART;TZID=+00:00:20210726T020000
DTEND;TZID=+00:00:20210726T030000
DTSTAMP:20260426T022219
CREATED:20260314T114715Z
LAST-MODIFIED:20260423T194240Z
UID:2898-1627264800-1627268400@amcham.co.ke
SUMMARY:State of Trade: Briefing with Ministry of Industrialization\, Trade and Enterprise Development
DESCRIPTION:
URL:https://amcham.co.ke/event/state-of-trade-briefing-with-ministry-of-industrialization-trade-and-enterprise-development-3/
END:VEVENT
BEGIN:VEVENT
DTSTART;TZID=Asia/Dubai:20210716T050000
DTEND;TZID=Asia/Dubai:20210716T070000
DTSTAMP:20260426T022219
CREATED:20260314T111021Z
LAST-MODIFIED:20260314T111021Z
UID:2787-1626411600-1626418800@amcham.co.ke
SUMMARY:Stakeholder Business Environment Analysis Workshop
DESCRIPTION:
URL:https://amcham.co.ke/event/stakeholder-business-environment-analysis-workshop-2/
END:VEVENT
BEGIN:VEVENT
DTSTART;TZID=Asia/Dubai:20210716T050000
DTEND;TZID=Asia/Dubai:20210716T070000
DTSTAMP:20260426T022219
CREATED:20260314T111005Z
LAST-MODIFIED:20260314T111005Z
UID:2683-1626411600-1626418800@amcham.co.ke
SUMMARY:Stakeholder Business Environment Analysis Workshop
DESCRIPTION:
URL:https://amcham.co.ke/event/stakeholder-business-environment-analysis-workshop/
END:VEVENT
BEGIN:VEVENT
DTSTART;TZID=+00:00:20210716T010000
DTEND;TZID=+00:00:20210716T030000
DTSTAMP:20260426T022219
CREATED:20260314T114715Z
LAST-MODIFIED:20260423T194240Z
UID:2897-1626397200-1626404400@amcham.co.ke
SUMMARY:Stakeholder Business Environment Analysis Workshop
DESCRIPTION:
URL:https://amcham.co.ke/event/stakeholder-business-environment-analysis-workshop-3/
END:VEVENT
BEGIN:VEVENT
DTSTART;TZID=Asia/Dubai:20210713T050000
DTEND;TZID=Asia/Dubai:20210713T060000
DTSTAMP:20260426T022219
CREATED:20260314T111021Z
LAST-MODIFIED:20260314T111021Z
UID:2786-1626152400-1626156000@amcham.co.ke
SUMMARY:Briefing with East Africa Community Secretary General
DESCRIPTION:
URL:https://amcham.co.ke/event/briefing-with-east-africa-community-secretary-general-2/
END:VEVENT
BEGIN:VEVENT
DTSTART;TZID=Asia/Dubai:20210713T050000
DTEND;TZID=Asia/Dubai:20210713T060000
DTSTAMP:20260426T022219
CREATED:20260314T111005Z
LAST-MODIFIED:20260314T111005Z
UID:2682-1626152400-1626156000@amcham.co.ke
SUMMARY:Briefing with East Africa Community Secretary General
DESCRIPTION:
URL:https://amcham.co.ke/event/briefing-with-east-africa-community-secretary-general/
END:VEVENT
BEGIN:VEVENT
DTSTART;TZID=+00:00:20210713T010000
DTEND;TZID=+00:00:20210713T020000
DTSTAMP:20260426T022219
CREATED:20260314T114715Z
LAST-MODIFIED:20260423T194240Z
UID:2896-1626138000-1626141600@amcham.co.ke
SUMMARY:Briefing with East Africa Community Secretary General
DESCRIPTION:
URL:https://amcham.co.ke/event/briefing-with-east-africa-community-secretary-general-3/
END:VEVENT
BEGIN:VEVENT
DTSTART;TZID=Africa/Nairobi:20210622T050000
DTEND;TZID=Africa/Nairobi:20210701T050000
DTSTAMP:20260426T022219
CREATED:20260314T111021Z
LAST-MODIFIED:20260314T111021Z
UID:2785-1624338000-1625115600@amcham.co.ke
SUMMARY:Forensics\, Risk & Compliance Training
DESCRIPTION:Businesses need to factor in the risk of bribery and corruption in their official interactions and day-to-day activities. For businesses operating across countries\, other considerations to have in mind include the different countries’ regulatory and enforcement frameworks\, conflicting information and the rapid evolution of technology. These are among key factors for ensuring successful business growth and profitability. \n \nIn this regard\, we invite you to participate in a training program facilitated by ALN | Anjarwalla & Khanna focusing on some of these key factors as well as on the risk\, compliance and operating concerns\, highlighting opportunities that are available to enable businesses to thrive and run more efficiently. \n \nThe program is structed as 4 training sessions focused on specific areas as follows: \n \nSession 1 – Tuesday\, June 22\, 2021\, 10 – 11.30 a.m. \n \nEffective measures to meet local and U.S. regulatory requirements in respect of financial crime. \n \nSession 2 –  Thursday\, June 24\, 2021\, 10 – 11.30 a.m. \n \nThird-party risk and how to proactively manage it (Prevent\, detect and respond). \n \nSession 3 – Wednesday\, June 30\, 2021\, 10 – 11.30 a.m. \n \nAssessing the risk of fraud and leakage in your business. \n \nSession 4 – Thursday\, July 1\, 2021\, 10 – 11.30 a.m. \n \nCurrent trends and the impact of Cyber Crime in East Africa. \n \n \n \n*8 CPD points will be issued by Africa Legal to participants who complete all the training sessions.
URL:https://amcham.co.ke/event/forensics-risk-compliance-training-2/
END:VEVENT
BEGIN:VEVENT
DTSTART;TZID=Africa/Nairobi:20210622T050000
DTEND;TZID=Africa/Nairobi:20210701T050000
DTSTAMP:20260426T022219
CREATED:20260314T111004Z
LAST-MODIFIED:20260314T111004Z
UID:2681-1624338000-1625115600@amcham.co.ke
SUMMARY:Forensics\, Risk & Compliance Training
DESCRIPTION:Businesses need to factor in the risk of bribery and corruption in their official interactions and day-to-day activities. For businesses operating across countries\, other considerations to have in mind include the different countries’ regulatory and enforcement frameworks\, conflicting information and the rapid evolution of technology. These are among key factors for ensuring successful business growth and profitability. \n \nIn this regard\, we invite you to participate in a training program facilitated by ALN | Anjarwalla & Khanna focusing on some of these key factors as well as on the risk\, compliance and operating concerns\, highlighting opportunities that are available to enable businesses to thrive and run more efficiently. \n \nThe program is structed as 4 training sessions focused on specific areas as follows: \n \nSession 1 – Tuesday\, June 22\, 2021\, 10 – 11.30 a.m. \n \nEffective measures to meet local and U.S. regulatory requirements in respect of financial crime. \n \nSession 2 –  Thursday\, June 24\, 2021\, 10 – 11.30 a.m. \n \nThird-party risk and how to proactively manage it (Prevent\, detect and respond). \n \nSession 3 – Wednesday\, June 30\, 2021\, 10 – 11.30 a.m. \n \nAssessing the risk of fraud and leakage in your business. \n \nSession 4 – Thursday\, July 1\, 2021\, 10 – 11.30 a.m. \n \nCurrent trends and the impact of Cyber Crime in East Africa. \n \n \n \n*8 CPD points will be issued by Africa Legal to participants who complete all the training sessions.
URL:https://amcham.co.ke/event/forensics-risk-compliance-training/
END:VEVENT
BEGIN:VEVENT
DTSTART;TZID=Africa/Nairobi:20210622T030000
DTEND;TZID=Africa/Nairobi:20210622T040000
DTSTAMP:20260426T022219
CREATED:20260314T111021Z
LAST-MODIFIED:20260314T111021Z
UID:2784-1624330800-1624334400@amcham.co.ke
SUMMARY:LOGISTICS AND SUPPLY CHAIN
DESCRIPTION:The AfCFTA signals a major effort towards a more integrated African regional economy as well as the will to better include Africa in the global supply chain. The World Bank estimates that the AfCFTA will boost intracontinental exports by over 81% and exports with non-African countries by 19% by 2035. \n \nManufacturing exports are anticipated to make the most gains: a 110% increase for intra-African trade and 46% for non-African trade. For this to be realized however\, access to and movement of goods across the region and beyond will be critical. \n \nJoin us June 22\, 2021\, 8-9a.m. EAT for a stakeholder discussion on the the role of logistics and supply chain in the implementation and success of the AfCFTA. The discussion will cover: \n \n\nLogistical readiness to facilitate trade under AfCFTA across the continent\, with a comparative analysis of various African Markets’ readiness.\nChallenges and proposed solutions for the logistics sector in AfCFTA implementation.\nDigital innovation in logistics and its role in catalyzing trade under the AfCFTA.\nLogistics as an enabler of the FMCG and E-commerce industries under the AfCFTA\, and the rise of e-logistics to solve challenges facing the industry.\nA breakdown of the benefits of AfCFTA to the logistics sector.\nThe roles of various stakeholders including the private sector in catalyzing as well as required policy and regulatory changes.
URL:https://amcham.co.ke/event/logistics-and-supply-chain-2/
END:VEVENT
BEGIN:VEVENT
DTSTART;TZID=Africa/Nairobi:20210622T030000
DTEND;TZID=Africa/Nairobi:20210622T040000
DTSTAMP:20260426T022219
CREATED:20260314T111004Z
LAST-MODIFIED:20260314T111004Z
UID:2680-1624330800-1624334400@amcham.co.ke
SUMMARY:LOGISTICS AND SUPPLY CHAIN
DESCRIPTION:The AfCFTA signals a major effort towards a more integrated African regional economy as well as the will to better include Africa in the global supply chain. The World Bank estimates that the AfCFTA will boost intracontinental exports by over 81% and exports with non-African countries by 19% by 2035. \n \nManufacturing exports are anticipated to make the most gains: a 110% increase for intra-African trade and 46% for non-African trade. For this to be realized however\, access to and movement of goods across the region and beyond will be critical. \n \nJoin us June 22\, 2021\, 8-9a.m. EAT for a stakeholder discussion on the the role of logistics and supply chain in the implementation and success of the AfCFTA. The discussion will cover: \n \n\nLogistical readiness to facilitate trade under AfCFTA across the continent\, with a comparative analysis of various African Markets’ readiness.\nChallenges and proposed solutions for the logistics sector in AfCFTA implementation.\nDigital innovation in logistics and its role in catalyzing trade under the AfCFTA.\nLogistics as an enabler of the FMCG and E-commerce industries under the AfCFTA\, and the rise of e-logistics to solve challenges facing the industry.\nA breakdown of the benefits of AfCFTA to the logistics sector.\nThe roles of various stakeholders including the private sector in catalyzing as well as required policy and regulatory changes.
URL:https://amcham.co.ke/event/logistics-and-supply-chain/
END:VEVENT
BEGIN:VEVENT
DTSTART;TZID=+00:00:20210622T020000
DTEND;TZID=+00:00:20210701T020000
DTSTAMP:20260426T022219
CREATED:20260314T114715Z
LAST-MODIFIED:20260423T194240Z
UID:2895-1624327200-1625104800@amcham.co.ke
SUMMARY:Forensics\, Risk & Compliance Training
DESCRIPTION:
URL:https://amcham.co.ke/event/forensics-risk-compliance-training-3/
END:VEVENT
BEGIN:VEVENT
DTSTART;TZID=+00:00:20210622T000000
DTEND;TZID=+00:00:20210622T010000
DTSTAMP:20260426T022219
CREATED:20260314T114715Z
LAST-MODIFIED:20260423T194240Z
UID:2894-1624320000-1624323600@amcham.co.ke
SUMMARY:LOGISTICS AND SUPPLY CHAIN
DESCRIPTION:
URL:https://amcham.co.ke/event/logistics-and-supply-chain-3/
END:VEVENT
BEGIN:VEVENT
DTSTART;TZID=Africa/Nairobi:20210521T030000
DTEND;TZID=Africa/Nairobi:20210521T043000
DTSTAMP:20260426T022219
CREATED:20260314T111021Z
LAST-MODIFIED:20260314T111021Z
UID:2783-1621566000-1621571400@amcham.co.ke
SUMMARY:Demystifying Coaching
DESCRIPTION:Coaching has become a buzzword in the professional circles in recent years and we are seeing more people embrace it for personal development. It is one of the fastest growing industries in the world yet it is also quite often misunderstood. In this series you will learn: \n\nThe basic principles of coaching\nThe difference between Coaching & other Learning disciplines such as mentoring\, counseling and teaching\nDemystify coaching myths\nInsights on the coaching profession worldwide\nTips on embedding a coaching culture in your organization\nThe journey to becoming a professional coach
URL:https://amcham.co.ke/event/demystifying-coaching-2/
END:VEVENT
BEGIN:VEVENT
DTSTART;TZID=Africa/Nairobi:20210521T030000
DTEND;TZID=Africa/Nairobi:20210521T043000
DTSTAMP:20260426T022219
CREATED:20260314T111004Z
LAST-MODIFIED:20260314T111004Z
UID:2679-1621566000-1621571400@amcham.co.ke
SUMMARY:Demystifying Coaching
DESCRIPTION:Coaching has become a buzzword in the professional circles in recent years and we are seeing more people embrace it for personal development. It is one of the fastest growing industries in the world yet it is also quite often misunderstood. In this series you will learn: \n\nThe basic principles of coaching\nThe difference between Coaching & other Learning disciplines such as mentoring\, counseling and teaching\nDemystify coaching myths\nInsights on the coaching profession worldwide\nTips on embedding a coaching culture in your organization\nThe journey to becoming a professional coach
URL:https://amcham.co.ke/event/demystifying-coaching/
END:VEVENT
BEGIN:VEVENT
DTSTART;TZID=+00:00:20210521T000000
DTEND;TZID=+00:00:20210521T013000
DTSTAMP:20260426T022219
CREATED:20260314T114714Z
LAST-MODIFIED:20260423T194240Z
UID:2893-1621555200-1621560600@amcham.co.ke
SUMMARY:Demystifying Coaching
DESCRIPTION:
URL:https://amcham.co.ke/event/demystifying-coaching-3/
END:VEVENT
BEGIN:VEVENT
DTSTART;TZID=Africa/Nairobi:20210520T040000
DTEND;TZID=Africa/Nairobi:20210520T050000
DTSTAMP:20260426T022219
CREATED:20260314T111020Z
LAST-MODIFIED:20260314T111020Z
UID:2782-1621483200-1621486800@amcham.co.ke
SUMMARY:The CEO Imperative
DESCRIPTION:The session presents the findings of EY’s third CEO Imperative Study\, created by EYQ\, EY’s think tank. The study is based on a global survey of over 300 chief executives of Forbes Global 2000 companies to understand their perspectives on the DNA of the future enterprise.  \n \nThe first part will focus on the “what” of transformation: the CEOs’ views of what’s driving change in their organizations; their transformation objectives and capability gaps; the likelihood of different business scenarios; and what will comprise the DNA of the future enterprise.  \n \nThe second part of the CEO Imperative report focuses on the “how” of transformation: how to overcome organizational gaps to realize transformation objectives while laying the foundation for long-term value creation.
URL:https://amcham.co.ke/event/the-ceo-imperative-2/
END:VEVENT
BEGIN:VEVENT
DTSTART;TZID=Africa/Nairobi:20210520T040000
DTEND;TZID=Africa/Nairobi:20210520T050000
DTSTAMP:20260426T022219
CREATED:20260314T111004Z
LAST-MODIFIED:20260314T111004Z
UID:2678-1621483200-1621486800@amcham.co.ke
SUMMARY:The CEO Imperative
DESCRIPTION:The session presents the findings of EY’s third CEO Imperative Study\, created by EYQ\, EY’s think tank. The study is based on a global survey of over 300 chief executives of Forbes Global 2000 companies to understand their perspectives on the DNA of the future enterprise.  \n \nThe first part will focus on the “what” of transformation: the CEOs’ views of what’s driving change in their organizations; their transformation objectives and capability gaps; the likelihood of different business scenarios; and what will comprise the DNA of the future enterprise.  \n \nThe second part of the CEO Imperative report focuses on the “how” of transformation: how to overcome organizational gaps to realize transformation objectives while laying the foundation for long-term value creation.
URL:https://amcham.co.ke/event/the-ceo-imperative/
END:VEVENT
BEGIN:VEVENT
DTSTART;TZID=+00:00:20210520T010000
DTEND;TZID=+00:00:20210520T020000
DTSTAMP:20260426T022219
CREATED:20260314T114714Z
LAST-MODIFIED:20260423T194240Z
UID:2892-1621472400-1621476000@amcham.co.ke
SUMMARY:The CEO Imperative
DESCRIPTION:
URL:https://amcham.co.ke/event/the-ceo-imperative-3/
END:VEVENT
BEGIN:VEVENT
DTSTART;TZID=Africa/Nairobi:20210428T110000
DTEND;TZID=Africa/Nairobi:20210428T120000
DTSTAMP:20260426T022219
CREATED:20260314T111020Z
LAST-MODIFIED:20260314T111020Z
UID:2781-1619607600-1619611200@amcham.co.ke
SUMMARY:Report Launch - U.S.- Kenya Trade Negotiations: Implications for the Future of the U.S.-Africa Trade Relationship
DESCRIPTION:AmCham Kenya\, in partnership with U.S. Chamber’s U.S.-Africa Business Center and Covington\, cordially invite you to the U.S. – Kenya Trade Report Launch on Wednesday\, April 28\, 2021\, 4 – 5p.m. EAT | 9 – 10a.m. EST.  \n﻿ \n\n This event is the culmination of a year’s worth of private and public sector interviews on the future of the U.S.-Kenya trade relationship\, showcasing report findings highlighting the opportunities and risks associated with continued U.S.-Kenya FTA negotiations with business and government leaders. The event will feature perspective of corporate executives and thought leaders who will discuss the implications of this agreement and opportunities for growth.
URL:https://amcham.co.ke/event/report-launch-u-s-kenya-trade-negotiations-implications-for-the-future-of-the-u-s-africa-trade-relationship-2/
END:VEVENT
BEGIN:VEVENT
DTSTART;TZID=Africa/Nairobi:20210428T110000
DTEND;TZID=Africa/Nairobi:20210428T120000
DTSTAMP:20260426T022219
CREATED:20260314T111004Z
LAST-MODIFIED:20260314T111004Z
UID:2677-1619607600-1619611200@amcham.co.ke
SUMMARY:Report Launch - U.S.- Kenya Trade Negotiations: Implications for the Future of the U.S.-Africa Trade Relationship
DESCRIPTION:AmCham Kenya\, in partnership with U.S. Chamber’s U.S.-Africa Business Center and Covington\, cordially invite you to the U.S. – Kenya Trade Report Launch on Wednesday\, April 28\, 2021\, 4 – 5p.m. EAT | 9 – 10a.m. EST.  \n﻿ \n\n This event is the culmination of a year’s worth of private and public sector interviews on the future of the U.S.-Kenya trade relationship\, showcasing report findings highlighting the opportunities and risks associated with continued U.S.-Kenya FTA negotiations with business and government leaders. The event will feature perspective of corporate executives and thought leaders who will discuss the implications of this agreement and opportunities for growth.
URL:https://amcham.co.ke/event/report-launch-u-s-kenya-trade-negotiations-implications-for-the-future-of-the-u-s-africa-trade-relationship/
END:VEVENT
BEGIN:VEVENT
DTSTART;TZID=+00:00:20210428T080000
DTEND;TZID=+00:00:20210428T090000
DTSTAMP:20260426T022219
CREATED:20260314T114714Z
LAST-MODIFIED:20260423T194240Z
UID:2891-1619596800-1619600400@amcham.co.ke
SUMMARY:Report Launch - U.S.- Kenya Trade Negotiations: Implications for the Future of the U.S.-Africa Trade Relationship
DESCRIPTION:
URL:https://amcham.co.ke/event/report-launch-u-s-kenya-trade-negotiations-implications-for-the-future-of-the-u-s-africa-trade-relationship-3/
END:VEVENT
BEGIN:VEVENT
DTSTART;TZID=Africa/Nairobi:20210423T050000
DTEND;TZID=Africa/Nairobi:20210423T063000
DTSTAMP:20260426T022219
CREATED:20260314T111020Z
LAST-MODIFIED:20260314T111020Z
UID:2780-1619154000-1619159400@amcham.co.ke
SUMMARY:Building a Foundation for Personal/Company Development
DESCRIPTION:Join us April 23\, 2021 10 – 11:30a.m. EAT for a mini workshop in partnership with Leadership Management International (LMI) on how you can build a foundation for personal/or company development. \n \nTopics Covered \n\nRationale for personal or company development\nBenefits for personal or company development\nFoundations for Developing Employees\nMarket Changes Affecting the Need for Developing Employees\nBenefits of Employee Engagement\nCost of Employee Development versus the Cost of Doing Nothing\nUse of Profile Assessments to Learn About Individual Development Needs.\n\n \nThe session is designed to encourage interaction between participants and to get you started on your personal/or company development journey.
URL:https://amcham.co.ke/event/building-a-foundation-for-personal-company-development-2/
END:VEVENT
BEGIN:VEVENT
DTSTART;TZID=Africa/Nairobi:20210423T050000
DTEND;TZID=Africa/Nairobi:20210423T063000
DTSTAMP:20260426T022219
CREATED:20260314T111004Z
LAST-MODIFIED:20260314T111004Z
UID:2676-1619154000-1619159400@amcham.co.ke
SUMMARY:Building a Foundation for Personal/Company Development
DESCRIPTION:Join us April 23\, 2021 10 – 11:30a.m. EAT for a mini workshop in partnership with Leadership Management International (LMI) on how you can build a foundation for personal/or company development. \n \nTopics Covered \n\nRationale for personal or company development\nBenefits for personal or company development\nFoundations for Developing Employees\nMarket Changes Affecting the Need for Developing Employees\nBenefits of Employee Engagement\nCost of Employee Development versus the Cost of Doing Nothing\nUse of Profile Assessments to Learn About Individual Development Needs.\n\n \nThe session is designed to encourage interaction between participants and to get you started on your personal/or company development journey.
URL:https://amcham.co.ke/event/building-a-foundation-for-personal-company-development/
END:VEVENT
BEGIN:VEVENT
DTSTART;TZID=+00:00:20210423T020000
DTEND;TZID=+00:00:20210423T033000
DTSTAMP:20260426T022219
CREATED:20260314T114714Z
LAST-MODIFIED:20260423T194241Z
UID:2890-1619143200-1619148600@amcham.co.ke
SUMMARY:Building a Foundation for Personal/Company Development
DESCRIPTION:
URL:https://amcham.co.ke/event/building-a-foundation-for-personal-company-development-3/
END:VEVENT
BEGIN:VEVENT
DTSTART;TZID=Africa/Nairobi:20210420T053000
DTEND;TZID=Africa/Nairobi:20210420T070000
DTSTAMP:20260426T022219
CREATED:20260314T111020Z
LAST-MODIFIED:20260314T111020Z
UID:2779-1618896600-1618902000@amcham.co.ke
SUMMARY:AfCFTA Private Sector Sensitization Forum
DESCRIPTION:With trading under the African Continental Free Trade Area (AfCFTA) having commenced on 1st January\, 2021\, it is expected that State Parties will begin to align their customs procedures and provide customs documentations for exports under the AfCFTA. \n \nTo facilitate the private sector harnessing opportunities in the continental market information dissemination on market access for both trade in goods and services is vital. \n \nJoin us April 20\, 2021 at 10.30 – 12noon EAT for a sensitization forum with the State Department for Trade and Enterprise Development on the AfCFTA with the aim to:  \n \n\nProvide a clear understanding of the market opportunities and expectations in the AfCFTA\nOutline Kenya’s position and preparedness for trading under the AfCFTA.\nDetail measures to fill gaps and address challenges to the implementation of the AfCFTA and uptake of the opportunities for continental trade.\n\n \nThe forum will also include engagement with the following government agencies related to the AfCFTA: \n \n\nThe Kenya Revenue Authority\nThe Kenya Bureau of Standards\nKenya Trade Network Agency (KenTrade)
URL:https://amcham.co.ke/event/afcfta-private-sector-sensitization-forum-2/
END:VEVENT
END:VCALENDAR