BEGIN:VCALENDAR
VERSION:2.0
PRODID:-//AmCham Kenya - ECPv6.15.20//NONSGML v1.0//EN
CALSCALE:GREGORIAN
METHOD:PUBLISH
X-WR-CALNAME:AmCham Kenya
X-ORIGINAL-URL:https://amcham.co.ke
X-WR-CALDESC:Events for AmCham Kenya
REFRESH-INTERVAL;VALUE=DURATION:PT1H
X-Robots-Tag:noindex
X-PUBLISHED-TTL:PT1H
BEGIN:VTIMEZONE
TZID:+00:00
END:VTIMEZONE
BEGIN:VTIMEZONE
TZID:Africa/Nairobi
BEGIN:STANDARD
TZOFFSETFROM:+0300
TZOFFSETTO:+0300
TZNAME:EAT
DTSTART:20200101T000000
END:STANDARD
END:VTIMEZONE
BEGIN:VEVENT
DTSTART;TZID=+00:00:20220128T093000
DTEND;TZID=+00:00:20220128T120000
DTSTAMP:20260425T164715
CREATED:20260314T114717Z
LAST-MODIFIED:20260423T194238Z
UID:2914-1643362200-1643371200@amcham.co.ke
SUMMARY:Know Your AmCham
DESCRIPTION:
URL:https://amcham.co.ke/event/know-your-amcham-5/
LOCATION:Tapas Ceviche Bar – Riverside
END:VEVENT
BEGIN:VEVENT
DTSTART;TZID=Africa/Nairobi:20220127T030000
DTEND;TZID=Africa/Nairobi:20220127T043000
DTSTAMP:20260425T164715
CREATED:20260314T111023Z
LAST-MODIFIED:20260314T111023Z
UID:2803-1643252400-1643257800@amcham.co.ke
SUMMARY:2022 Economic Outlook Forum
DESCRIPTION:Kenya’s economy demonstrated significant resilience to the COVID-19 shock in 2021 making a significant rebound in the second and third quarters of 2021 driven by return of activity in certain sectors such as education and the lifting of COVID restrictions. The World Bank also forecasts robust overall economic performance in 2022-23 at a projected 4.9% growth\, similar to the pre-pandemic pace of 5% average annual growth from 2010 to 2019. Amidst the optimistic outlook\, Kenya still faces vulnerabilities – uncertainty in the future course of the pandemic\, fiscal strain with depleted public and household finances\, and the upcoming general elections creating political and economic uncertainty. \n \nThe AmCham Economic Outlook Forum offers a platform for business leaders to get a prognosis from key policy makers of the year ahead and gain critical insights on economic performance\, impacts and trends to support strategic business decision making. The forum also provides opportunity to broach salient issues impacting business and explore collaborative solutions with policy makers. \n \n \nKey themes to be covered: \n1) Kenya’s 2022 macro-economic outlook \n2) Key Economic Drivers\, Risks and Scenarios \n3) Micro-level economic data and perspectives
URL:https://amcham.co.ke/event/2022-economic-outlook-forum-2/
LOCATION:Villa Rosa Kempinski
END:VEVENT
BEGIN:VEVENT
DTSTART;TZID=Africa/Nairobi:20220127T030000
DTEND;TZID=Africa/Nairobi:20220127T043000
DTSTAMP:20260425T164715
CREATED:20260314T111006Z
LAST-MODIFIED:20260314T111006Z
UID:2699-1643252400-1643257800@amcham.co.ke
SUMMARY:2022 Economic Outlook Forum
DESCRIPTION:Kenya’s economy demonstrated significant resilience to the COVID-19 shock in 2021 making a significant rebound in the second and third quarters of 2021 driven by return of activity in certain sectors such as education and the lifting of COVID restrictions. The World Bank also forecasts robust overall economic performance in 2022-23 at a projected 4.9% growth\, similar to the pre-pandemic pace of 5% average annual growth from 2010 to 2019. Amidst the optimistic outlook\, Kenya still faces vulnerabilities – uncertainty in the future course of the pandemic\, fiscal strain with depleted public and household finances\, and the upcoming general elections creating political and economic uncertainty. \n \nThe AmCham Economic Outlook Forum offers a platform for business leaders to get a prognosis from key policy makers of the year ahead and gain critical insights on economic performance\, impacts and trends to support strategic business decision making. The forum also provides opportunity to broach salient issues impacting business and explore collaborative solutions with policy makers. \n \n \nKey themes to be covered: \n1) Kenya’s 2022 macro-economic outlook \n2) Key Economic Drivers\, Risks and Scenarios \n3) Micro-level economic data and perspectives
URL:https://amcham.co.ke/event/2022-economic-outlook-forum/
LOCATION:Villa Rosa Kempinski
END:VEVENT
BEGIN:VEVENT
DTSTART;TZID=+00:00:20220127T000000
DTEND;TZID=+00:00:20220127T013000
DTSTAMP:20260425T164715
CREATED:20260314T114717Z
LAST-MODIFIED:20260423T194238Z
UID:2913-1643241600-1643247000@amcham.co.ke
SUMMARY:2022 Economic Outlook Forum
DESCRIPTION:
URL:https://amcham.co.ke/event/2022-economic-outlook-forum-3/
LOCATION:Villa Rosa Kempinski
END:VEVENT
BEGIN:VEVENT
DTSTART;TZID=Africa/Nairobi:20211209T100000
DTEND;TZID=Africa/Nairobi:20211209T113000
DTSTAMP:20260425T164715
CREATED:20260314T111023Z
LAST-MODIFIED:20260314T111023Z
UID:2802-1639044000-1639049400@amcham.co.ke
SUMMARY:AmCham Force for Good
DESCRIPTION:Join us December 9\, 2021\, 3.00 – 4.30p.m. EAT for the last session in our Force for Good series on Opportunity and Inclusion. \n \nThe forum will focus on the catalytic effect of business practices that combat poverty\, increase inclusion\, and expand opportunity on improved corporate performance featuring speakers from: \n\nHudson Sandler\,\nInAble\,\nCorteva Agriscience and\nB-Lab East Africa\n\n \n \nWhat is the AmCham Force for Good Initiative? \n﻿ \nThe AmCham Force for Good Initiative champions and amplifies business Sustainability and Social Impact initiatives and practices\, promoting collaboration in support of empowered communities and a resilient Kenya.
URL:https://amcham.co.ke/event/amcham-force-for-good-5/
END:VEVENT
BEGIN:VEVENT
DTSTART;TZID=Africa/Nairobi:20211209T100000
DTEND;TZID=Africa/Nairobi:20211209T113000
DTSTAMP:20260425T164715
CREATED:20260314T111005Z
LAST-MODIFIED:20260314T111006Z
UID:2688-1639044000-1639049400@amcham.co.ke
SUMMARY:AmCham Force for Good
DESCRIPTION:Join us December 9\, 2021\, 3.00 – 4.30p.m. EAT for the last session in our Force for Good series on Opportunity and Inclusion. \n \nThe forum will focus on the catalytic effect of business practices that combat poverty\, increase inclusion\, and expand opportunity on improved corporate performance featuring speakers from: \n\nHudson Sandler\,\nInAble\,\nCorteva Agriscience and\nB-Lab East Africa\n\n \n \nWhat is the AmCham Force for Good Initiative? \n﻿ \nThe AmCham Force for Good Initiative champions and amplifies business Sustainability and Social Impact initiatives and practices\, promoting collaboration in support of empowered communities and a resilient Kenya.
URL:https://amcham.co.ke/event/amcham-force-for-good/
END:VEVENT
BEGIN:VEVENT
DTSTART;TZID=+00:00:20211209T070000
DTEND;TZID=+00:00:20211209T083000
DTSTAMP:20260425T164715
CREATED:20260314T114717Z
LAST-MODIFIED:20260423T194238Z
UID:2912-1639033200-1639038600@amcham.co.ke
SUMMARY:AmCham Force for Good
DESCRIPTION:
URL:https://amcham.co.ke/event/amcham-force-for-good-9/
END:VEVENT
BEGIN:VEVENT
DTSTART;TZID=Africa/Nairobi:20211124T080000
DTEND;TZID=Africa/Nairobi:20211124T090000
DTSTAMP:20260425T164715
CREATED:20260314T111023Z
LAST-MODIFIED:20260314T111023Z
UID:2801-1637740800-1637744400@amcham.co.ke
SUMMARY:AmCham Thanksgiving
DESCRIPTION:Join us for a special virtual Thanksgiving celebration* in the spirit of the annual Thanksgiving Holiday\, on November 24\, 2021 at 1p.m. The event will feature thanksgiving messages from Chargé D’affaires\, U.S. Embassy Nairobi\, Eric Kneedler and AmCham Board President\, Brenda Mbathi. \n \nEntertainment will be by the talented June Gachui with free raffle prizes to be won! \n \n \n*AmCham members only
URL:https://amcham.co.ke/event/amcham-thanksgiving-3/
END:VEVENT
BEGIN:VEVENT
DTSTART;TZID=Africa/Nairobi:20211124T080000
DTEND;TZID=Africa/Nairobi:20211124T090000
DTSTAMP:20260425T164715
CREATED:20260314T111002Z
LAST-MODIFIED:20260314T111006Z
UID:2663-1637740800-1637744400@amcham.co.ke
SUMMARY:AmCham Thanksgiving
DESCRIPTION:Join us for a special virtual Thanksgiving celebration* in the spirit of the annual Thanksgiving Holiday\, on November 24\, 2021 at 1p.m. The event will feature thanksgiving messages from Chargé D’affaires\, U.S. Embassy Nairobi\, Eric Kneedler and AmCham Board President\, Brenda Mbathi. \n \nEntertainment will be by the talented June Gachui with free raffle prizes to be won! \n \n \n*AmCham members only
URL:https://amcham.co.ke/event/amcham-thanksgiving/
END:VEVENT
BEGIN:VEVENT
DTSTART;TZID=+00:00:20211124T050000
DTEND;TZID=+00:00:20211124T060000
DTSTAMP:20260425T164715
CREATED:20260314T114717Z
LAST-MODIFIED:20260423T194238Z
UID:2911-1637730000-1637733600@amcham.co.ke
SUMMARY:AmCham Thanksgiving
DESCRIPTION:
URL:https://amcham.co.ke/event/amcham-thanksgiving-5/
END:VEVENT
BEGIN:VEVENT
DTSTART;TZID=Africa/Nairobi:20211117T040000
DTEND;TZID=Africa/Nairobi:20211117T050000
DTSTAMP:20260425T164715
CREATED:20260314T111023Z
LAST-MODIFIED:20260314T111023Z
UID:2800-1637121600-1637125200@amcham.co.ke
SUMMARY:Cyber Security
DESCRIPTION:Technology and automation of systems\, data protection regulatory compliance\, remote working\, storage\, collection and transfer of data has made cyber risks more complex than ever with far-reaching consequences. \n \nJoin us November 17\, 2021 9 – 10a.m. to learn from experts from Oracle and Gras Savoye on how organizations can adequately prepare to respond to cyber-risks and data breach incidents.
URL:https://amcham.co.ke/event/cyber-security-2/
END:VEVENT
BEGIN:VEVENT
DTSTART;TZID=Africa/Nairobi:20211117T040000
DTEND;TZID=Africa/Nairobi:20211117T050000
DTSTAMP:20260425T164715
CREATED:20260314T111006Z
LAST-MODIFIED:20260314T111006Z
UID:2696-1637121600-1637125200@amcham.co.ke
SUMMARY:Cyber Security
DESCRIPTION:Technology and automation of systems\, data protection regulatory compliance\, remote working\, storage\, collection and transfer of data has made cyber risks more complex than ever with far-reaching consequences. \n \nJoin us November 17\, 2021 9 – 10a.m. to learn from experts from Oracle and Gras Savoye on how organizations can adequately prepare to respond to cyber-risks and data breach incidents.
URL:https://amcham.co.ke/event/cyber-security/
END:VEVENT
BEGIN:VEVENT
DTSTART;TZID=+00:00:20211117T010000
DTEND;TZID=+00:00:20211117T020000
DTSTAMP:20260425T164715
CREATED:20260314T114717Z
LAST-MODIFIED:20260423T194238Z
UID:2910-1637110800-1637114400@amcham.co.ke
SUMMARY:Cyber Security
DESCRIPTION:
URL:https://amcham.co.ke/event/cyber-security-3/
END:VEVENT
BEGIN:VEVENT
DTSTART;TZID=Africa/Nairobi:20211105T040000
DTEND;TZID=Africa/Nairobi:20211105T050000
DTSTAMP:20260425T164715
CREATED:20260314T111023Z
LAST-MODIFIED:20260314T111023Z
UID:2799-1636084800-1636088400@amcham.co.ke
SUMMARY:AmCham HR Clinic
DESCRIPTION:Have you ever led through a crisis? \n﻿ \nHow did you turn adversity into advantage? \n \nJoin us November 5\, 2021\, 9.00-10.00a.m. EAT for a special AmCham member session facilitated by Rise and Learn Global exploring HR leadership in difficult times. The session will feature an in-depth panel discussion with HR leaders from Oracle and Dentons Hamilton Harrison and Mathews on how they have responded to crisis\, with practical\, real-life examples.
URL:https://amcham.co.ke/event/amcham-hr-clinic-2/
END:VEVENT
BEGIN:VEVENT
DTSTART;TZID=Africa/Nairobi:20211105T040000
DTEND;TZID=Africa/Nairobi:20211105T050000
DTSTAMP:20260425T164715
CREATED:20260314T111006Z
LAST-MODIFIED:20260314T111006Z
UID:2695-1636084800-1636088400@amcham.co.ke
SUMMARY:AmCham HR Clinic
DESCRIPTION:Have you ever led through a crisis? \n﻿ \nHow did you turn adversity into advantage? \n \nJoin us November 5\, 2021\, 9.00-10.00a.m. EAT for a special AmCham member session facilitated by Rise and Learn Global exploring HR leadership in difficult times. The session will feature an in-depth panel discussion with HR leaders from Oracle and Dentons Hamilton Harrison and Mathews on how they have responded to crisis\, with practical\, real-life examples.
URL:https://amcham.co.ke/event/amcham-hr-clinic/
END:VEVENT
BEGIN:VEVENT
DTSTART;TZID=+00:00:20211105T010000
DTEND;TZID=+00:00:20211105T020000
DTSTAMP:20260425T164715
CREATED:20260314T114717Z
LAST-MODIFIED:20260423T194238Z
UID:2909-1636074000-1636077600@amcham.co.ke
SUMMARY:AmCham HR Clinic
DESCRIPTION:
URL:https://amcham.co.ke/event/amcham-hr-clinic-3/
END:VEVENT
BEGIN:VEVENT
DTSTART;TZID=Africa/Nairobi:20211029T040000
DTEND;TZID=Africa/Nairobi:20211029T053000
DTSTAMP:20260425T164715
CREATED:20260314T111022Z
LAST-MODIFIED:20260314T111022Z
UID:2798-1635480000-1635485400@amcham.co.ke
SUMMARY:AmCham Force for Good
DESCRIPTION:Join us October 29\, 2021\, 9.00-10.30a.m. EAT for the third part of our Force for Good series on sustainability focused on Sustainable and Inclusive Finance\, a key requisite for sustainable economic growth and long-term stability of the financial system. \n \nThe forum will focus on mechanisms to support accessibility to finance that delivers both returns and positive impact\, featuring speakers from: \n\nHudson Sandler\,\nThe Kenya Bankers Association\,\nStandard Chartered Bank\, \nUSAID Kenya Investment Mechanism\,\nU.S.  African Development Foundation and \nDentons Hamilton Harrison & Mathews.\n\n \n \nWhat is the AmCham Force for Good Initiative? \n﻿ \nThe AmCham Force for Good Initiative champions and amplifies Sustainability and Social Impact initiatives by business\, promoting collaboration in support of empowered communities and a resilient Kenya.
URL:https://amcham.co.ke/event/amcham-force-for-good-4/
END:VEVENT
BEGIN:VEVENT
DTSTART;TZID=+00:00:20211029T010000
DTEND;TZID=+00:00:20211029T023000
DTSTAMP:20260425T164715
CREATED:20260314T114717Z
LAST-MODIFIED:20260423T194238Z
UID:2908-1635469200-1635474600@amcham.co.ke
SUMMARY:AmCham Force for Good
DESCRIPTION:
URL:https://amcham.co.ke/event/amcham-force-for-good-8/
END:VEVENT
BEGIN:VEVENT
DTSTART;TZID=Africa/Nairobi:20211027T100000
DTEND;TZID=Africa/Nairobi:20211027T120000
DTSTAMP:20260425T164715
CREATED:20260314T111022Z
LAST-MODIFIED:20260314T111022Z
UID:2797-1635328800-1635336000@amcham.co.ke
SUMMARY:AGOA Exporters Roundtable
DESCRIPTION:The AGOA Exporters Roundtable is a platform developed by and bringing together private sector enterprise\, trade associations and relevant public sector regulators and trade facilitators to share experiences\, challenges\, and co-create practical approaches and solutions needed to grow Kenya’s exports to the U.S. \n \nThe Roundtable enables strategic dialogue for: \n\nIdentification and consensus building on critical barriers to trade under AGOA\nIdentification and advancing of specific\, actionable interventions that will promote enhanced AGOA utilization\nA standing policy engagement platform for B2G engagement on AGOA implementation and utilization\n\n \nAttendance is by invitation only.
URL:https://amcham.co.ke/event/agoa-exporters-roundtable-2/
END:VEVENT
BEGIN:VEVENT
DTSTART;TZID=Africa/Nairobi:20211027T100000
DTEND;TZID=Africa/Nairobi:20211027T120000
DTSTAMP:20260425T164715
CREATED:20260314T111006Z
LAST-MODIFIED:20260314T111006Z
UID:2693-1635328800-1635336000@amcham.co.ke
SUMMARY:AGOA Exporters Roundtable
DESCRIPTION:The AGOA Exporters Roundtable is a platform developed by and bringing together private sector enterprise\, trade associations and relevant public sector regulators and trade facilitators to share experiences\, challenges\, and co-create practical approaches and solutions needed to grow Kenya’s exports to the U.S. \n \nThe Roundtable enables strategic dialogue for: \n\nIdentification and consensus building on critical barriers to trade under AGOA\nIdentification and advancing of specific\, actionable interventions that will promote enhanced AGOA utilization\nA standing policy engagement platform for B2G engagement on AGOA implementation and utilization\n\n \nAttendance is by invitation only.
URL:https://amcham.co.ke/event/agoa-exporters-roundtable/
END:VEVENT
BEGIN:VEVENT
DTSTART;TZID=+00:00:20211027T070000
DTEND;TZID=+00:00:20211027T090000
DTSTAMP:20260425T164715
CREATED:20260314T114716Z
LAST-MODIFIED:20260423T194239Z
UID:2907-1635318000-1635325200@amcham.co.ke
SUMMARY:AGOA Exporters Roundtable
DESCRIPTION:
URL:https://amcham.co.ke/event/agoa-exporters-roundtable-3/
END:VEVENT
BEGIN:VEVENT
DTSTART;TZID=Africa/Nairobi:20211018T040000
DTEND;TZID=Africa/Nairobi:20211021T070000
DTSTAMP:20260425T164715
CREATED:20260314T111022Z
LAST-MODIFIED:20260314T111022Z
UID:2796-1634529600-1634799600@amcham.co.ke
SUMMARY:Data Protection and Privacy Masterclass
DESCRIPTION:AmCham will host a Data Protection and Privacy Master Class facilitated by PwC on October 18\, 19 and 21\, 2021 from 9a.m. – 12noon EAT. The training will consist of 13 learning modules designed to educate participants on: \n\nThe Data Protection Act 2019\,\nData privacy challenges faced by Kenyan and multinational organizations\,\nHow to put data protection principles into practice\,\nImplementing a data privacy program including lessons learnt and best practice.\n\nThe Master Class will be interactive and will consist of classroom-based learning\, case studies and panel discussions with global leaders in data protection to offer comparative views of enforcement of data protection laws in different markets. \n \nThe Master Class is designed for participants in the roles: data privacy officers\, IT and information security system officers\, legal officers\, risk and compliance officers\, HR officers and business process officers. \n \nWe encourage organizations to send all key officers for the Master Class.
URL:https://amcham.co.ke/event/data-protection-and-privacy-masterclass-2/
END:VEVENT
BEGIN:VEVENT
DTSTART;TZID=Africa/Nairobi:20211018T040000
DTEND;TZID=Africa/Nairobi:20211021T070000
DTSTAMP:20260425T164715
CREATED:20260314T111006Z
LAST-MODIFIED:20260314T111006Z
UID:2692-1634529600-1634799600@amcham.co.ke
SUMMARY:Data Protection and Privacy Masterclass
DESCRIPTION:AmCham will host a Data Protection and Privacy Master Class facilitated by PwC on October 18\, 19 and 21\, 2021 from 9a.m. – 12noon EAT. The training will consist of 13 learning modules designed to educate participants on: \n\nThe Data Protection Act 2019\,\nData privacy challenges faced by Kenyan and multinational organizations\,\nHow to put data protection principles into practice\,\nImplementing a data privacy program including lessons learnt and best practice.\n\nThe Master Class will be interactive and will consist of classroom-based learning\, case studies and panel discussions with global leaders in data protection to offer comparative views of enforcement of data protection laws in different markets. \n \nThe Master Class is designed for participants in the roles: data privacy officers\, IT and information security system officers\, legal officers\, risk and compliance officers\, HR officers and business process officers. \n \nWe encourage organizations to send all key officers for the Master Class.
URL:https://amcham.co.ke/event/data-protection-and-privacy-masterclass/
END:VEVENT
BEGIN:VEVENT
DTSTART;TZID=+00:00:20211018T010000
DTEND;TZID=+00:00:20211021T040000
DTSTAMP:20260425T164715
CREATED:20260314T114716Z
LAST-MODIFIED:20260423T194239Z
UID:2906-1634518800-1634788800@amcham.co.ke
SUMMARY:Data Protection and Privacy Masterclass
DESCRIPTION:
URL:https://amcham.co.ke/event/data-protection-and-privacy-masterclass-3/
END:VEVENT
BEGIN:VEVENT
DTSTART;TZID=Africa/Nairobi:20211014T040000
DTEND;TZID=Africa/Nairobi:20211014T053000
DTSTAMP:20260425T164715
CREATED:20260314T111022Z
LAST-MODIFIED:20260314T111022Z
UID:2795-1634184000-1634189400@amcham.co.ke
SUMMARY:AmCham Force for Good
DESCRIPTION:How can private sector spearhead and support sustainable health in Kenya? \n \nJoin us October 14\, 2021\, 9.00-10.30a.m. EAT for the second part of our Force for Good series on sustainability focused on mechanisms for sustainability in health. \n \nThe forum will spotlight health innovations by business\, initiatives in expanding access to healthcare\, and community interventions focused on empowerment for screening\, management and intelligence\, as demonstrations of business spearheading sustainability. \n \n \nWhat is the AmCham Force for Good Initiative? \nThe AmCham Force for Good Initiative champions and amplifies Sustainability and Social Impact initiatives by business\, promoting collaboration in support of empowered communities and a resilient Kenya.
URL:https://amcham.co.ke/event/amcham-force-for-good-3/
END:VEVENT
BEGIN:VEVENT
DTSTART;TZID=+00:00:20211014T010000
DTEND;TZID=+00:00:20211014T023000
DTSTAMP:20260425T164715
CREATED:20260314T114716Z
LAST-MODIFIED:20260423T194239Z
UID:2905-1634173200-1634178600@amcham.co.ke
SUMMARY:AmCham Force for Good
DESCRIPTION:
URL:https://amcham.co.ke/event/amcham-force-for-good-7/
END:VEVENT
BEGIN:VEVENT
DTSTART;TZID=Africa/Nairobi:20211012T100000
DTEND;TZID=Africa/Nairobi:20211012T123000
DTSTAMP:20260425T164715
CREATED:20260314T111022Z
LAST-MODIFIED:20260314T111022Z
UID:2794-1634032800-1634041800@amcham.co.ke
SUMMARY:AmCham Agriculture Symposium 2021
DESCRIPTION:The Symposium themed Leveraging Partnerships and Championing Thought Leadership is intended to facilitate deliberations on solutions\, partnerships\, and capacity building to enhance the growth of two-way Kenya – U.S. trade and investment in the agriculture sector and drive best practice. The Symposium brings together key stakeholders in both the public and private sector\, as well as development partners involved in and committed to the growth of the Kenyan Agriculture Sector around three key objectives: \n \n\n Contributing to and providing support for policies that will enhance growth of the Kenyan Agriculture Sector.\nShowcasing best practice and innovations that can enhance the Kenyan Agriculture sector’s competitiveness internationally.\nChampioning an inclusive and sustainable Kenyan Agriculture sector to ensure food security.
URL:https://amcham.co.ke/event/amcham-agriculture-symposium-2021-2/
END:VEVENT
BEGIN:VEVENT
DTSTART;TZID=Africa/Nairobi:20211012T100000
DTEND;TZID=Africa/Nairobi:20211012T123000
DTSTAMP:20260425T164715
CREATED:20260314T111005Z
LAST-MODIFIED:20260314T111005Z
UID:2690-1634032800-1634041800@amcham.co.ke
SUMMARY:AmCham Agriculture Symposium 2021
DESCRIPTION:The Symposium themed Leveraging Partnerships and Championing Thought Leadership is intended to facilitate deliberations on solutions\, partnerships\, and capacity building to enhance the growth of two-way Kenya – U.S. trade and investment in the agriculture sector and drive best practice. The Symposium brings together key stakeholders in both the public and private sector\, as well as development partners involved in and committed to the growth of the Kenyan Agriculture Sector around three key objectives: \n \n\n Contributing to and providing support for policies that will enhance growth of the Kenyan Agriculture Sector.\nShowcasing best practice and innovations that can enhance the Kenyan Agriculture sector’s competitiveness internationally.\nChampioning an inclusive and sustainable Kenyan Agriculture sector to ensure food security.
URL:https://amcham.co.ke/event/amcham-agriculture-symposium-2021/
END:VEVENT
BEGIN:VEVENT
DTSTART;TZID=+00:00:20211012T070000
DTEND;TZID=+00:00:20211012T093000
DTSTAMP:20260425T164715
CREATED:20260314T114716Z
LAST-MODIFIED:20260423T194239Z
UID:2904-1634022000-1634031000@amcham.co.ke
SUMMARY:AmCham Agriculture Symposium 2021
DESCRIPTION:
URL:https://amcham.co.ke/event/amcham-agriculture-symposium-2021-3/
END:VEVENT
BEGIN:VEVENT
DTSTART;TZID=Africa/Nairobi:20210923T100000
DTEND;TZID=Africa/Nairobi:20210923T113000
DTSTAMP:20260425T164715
CREATED:20260314T111022Z
LAST-MODIFIED:20260314T111022Z
UID:2793-1632391200-1632396600@amcham.co.ke
SUMMARY:Advancing U.S. Trade and Investment in East Africa
DESCRIPTION:Join us on September 23\, 2021\, 3.00 – 4.30p.m. EAT for a robust discussion and perspectives on how the U.S. can play a critical role in advancing two-way trade and investment between the U.S. and the East Africa region. The forum featuring key U.S. government and private sector leaders will explore: \n\nU.S. Government priorities to advance greater trade and investment in East Africa.\nOpportunities for U.S. Government and private sector engagement and partnership to facilitate and support post-pandemic economic recovery in East Africa.\nPrivate sector insights and perspectives on opportunities to drive greater trade and investment between the U.S. and the East Africa region.
URL:https://amcham.co.ke/event/advancing-u-s-trade-and-investment-in-east-africa-2/
END:VEVENT
END:VCALENDAR