BEGIN:VCALENDAR
VERSION:2.0
PRODID:-//AmCham Kenya - ECPv6.15.20//NONSGML v1.0//EN
CALSCALE:GREGORIAN
METHOD:PUBLISH
X-WR-CALNAME:AmCham Kenya
X-ORIGINAL-URL:https://amcham.co.ke
X-WR-CALDESC:Events for AmCham Kenya
REFRESH-INTERVAL;VALUE=DURATION:PT1H
X-Robots-Tag:noindex
X-PUBLISHED-TTL:PT1H
BEGIN:VTIMEZONE
TZID:Africa/Nairobi
BEGIN:STANDARD
TZOFFSETFROM:+0300
TZOFFSETTO:+0300
TZNAME:EAT
DTSTART:20210101T000000
END:STANDARD
END:VTIMEZONE
BEGIN:VTIMEZONE
TZID:+00:00
END:VTIMEZONE
BEGIN:VTIMEZONE
TZID:UTC
BEGIN:STANDARD
TZOFFSETFROM:+0000
TZOFFSETTO:+0000
TZNAME:UTC
DTSTART:20210101T000000
END:STANDARD
END:VTIMEZONE
BEGIN:VEVENT
DTSTART;TZID=Africa/Nairobi:20220908T100000
DTEND;TZID=Africa/Nairobi:20220908T110000
DTSTAMP:20260425T164709
CREATED:20260314T111003Z
LAST-MODIFIED:20260314T111007Z
UID:2671-1662631200-1662634800@amcham.co.ke
SUMMARY:The African Continental Free Trade Area
DESCRIPTION:On July 25th 2022\, the AfCFTA Council of Ministers announced the AfCFTA Initiative on Guided Trade\, a pilot phase of the AfCFTA that allows 7 countries\, Rwanda\, Cameroon\, Egypt\, Ghana\, Kenya\, Mauritius and Tanzania\, to begin trading under the AfCFTA regime demonstrating the functionality of the AfCFTA. It will also identify companies\, products\, customs procedures and logistics processes required to enable trade under the AfCFTA. \n \nThe AfCFTA creates a market of 1.4 billion people and a combined GDP of $3.4 trillion making it the world’s second largest free trade area by number of member-states\, after the World Trade Organization\, and the largest in terms of population and geographic size. The economic significance of an agreement of this magnitude is immense\, and if successfully implemented\, is likely to have enormous impact on business dynamics within Africa and between Africa and the rest of the world. Therefore\, the AfCFTA has created several strategic options that businesses need to assess in order to take advantage of the new opportunities that have been opened and maximize the benefits of this new reality – for themselves and for Africa. \n \nThis forum will discuss: \n\nThe implications on global value and supply chains and location of production (local & regional).\nThe implications of consolidation of 55 countries (markets) into a gigantic single market of more than 1.4bn people. \nHow lower costs of cross-border activities change the trade-off between proximity to markets and the economics of specialization and scale.
URL:https://amcham.co.ke/event/the-african-continental-free-trade-area/
LOCATION:Radisson Blu Arboretum
END:VEVENT
BEGIN:VEVENT
DTSTART;TZID=+00:00:20220908T070000
DTEND;TZID=+00:00:20220908T080000
DTSTAMP:20260425T164709
CREATED:20260314T114719Z
LAST-MODIFIED:20260423T194236Z
UID:2924-1662620400-1662624000@amcham.co.ke
SUMMARY:The African Continental Free Trade Area
DESCRIPTION:
URL:https://amcham.co.ke/event/the-african-continental-free-trade-area-7/
END:VEVENT
BEGIN:VEVENT
DTSTART;TZID=Africa/Nairobi:20220714T100000
DTEND;TZID=Africa/Nairobi:20220714T110000
DTSTAMP:20260425T164709
CREATED:20260314T111025Z
LAST-MODIFIED:20260314T111025Z
UID:2813-1657792800-1657796400@amcham.co.ke
SUMMARY:The EAC 4th Band Common External Tariff
DESCRIPTION:On July 1st\, 2022\, the 35%\,  4th Band of the EAC Common External Tariff (CET) adopted by Ministers/Cabinet Secretaries in charge of Trade and Finance in the EAC came into effect . \n \nBefore the adoption of the 4th band\, the EAC CET was structured under three bands: \n•	25% for finished goods \n•	10% for intermediate goods \n•	0% for raw materials and capital goods \n \nThe 4th band includes dairy and meat products\, cereals\, cotton and textiles\, iron and steel\, edible oils and in addition: furniture\, leather products\, fresh-cut flowers\, fruits and nuts\, sugar and confectionery\, coffee\, tea and spices\, textiles and garments\, head gears\, ceramic products\, and paints\, among others. \n \nThe 4th band CET is seen as a positive step towards the promotion of industry\, intra-regional trade growth\, creation of employment\, protection of nascent industries and a step that aligns with the objectives of the AfCFTA.  \n \nWhile the 4th band is seen as a positive step for regional integration and industrialization\, it will\, in the interim have some negative effects for example on the purchasing power of citizens as imports from outside of the EAC become more expensive.  \n \nThe session will unpack the 4th band CET its implementation and impact for private sector.
URL:https://amcham.co.ke/event/the-eac-4th-band-common-external-tariff-2/
END:VEVENT
BEGIN:VEVENT
DTSTART;TZID=Africa/Nairobi:20220714T100000
DTEND;TZID=Africa/Nairobi:20220714T110000
DTSTAMP:20260425T164709
CREATED:20260314T111007Z
LAST-MODIFIED:20260314T111007Z
UID:2711-1657792800-1657796400@amcham.co.ke
SUMMARY:The EAC 4th Band Common External Tariff
DESCRIPTION:On July 1st\, 2022\, the 35%\,  4th Band of the EAC Common External Tariff (CET) adopted by Ministers/Cabinet Secretaries in charge of Trade and Finance in the EAC came into effect . \n \nBefore the adoption of the 4th band\, the EAC CET was structured under three bands: \n•	25% for finished goods \n•	10% for intermediate goods \n•	0% for raw materials and capital goods \n \nThe 4th band includes dairy and meat products\, cereals\, cotton and textiles\, iron and steel\, edible oils and in addition: furniture\, leather products\, fresh-cut flowers\, fruits and nuts\, sugar and confectionery\, coffee\, tea and spices\, textiles and garments\, head gears\, ceramic products\, and paints\, among others. \n \nThe 4th band CET is seen as a positive step towards the promotion of industry\, intra-regional trade growth\, creation of employment\, protection of nascent industries and a step that aligns with the objectives of the AfCFTA.  \n \nWhile the 4th band is seen as a positive step for regional integration and industrialization\, it will\, in the interim have some negative effects for example on the purchasing power of citizens as imports from outside of the EAC become more expensive.  \n \nThe session will unpack the 4th band CET its implementation and impact for private sector.
URL:https://amcham.co.ke/event/the-eac-4th-band-common-external-tariff/
END:VEVENT
BEGIN:VEVENT
DTSTART;TZID=+00:00:20220714T070000
DTEND;TZID=+00:00:20220714T080000
DTSTAMP:20260425T164709
CREATED:20260314T114719Z
LAST-MODIFIED:20260423T194236Z
UID:2923-1657782000-1657785600@amcham.co.ke
SUMMARY:The EAC 4th Band Common External Tariff
DESCRIPTION:
URL:https://amcham.co.ke/event/the-eac-4th-band-common-external-tariff-3/
END:VEVENT
BEGIN:VEVENT
DTSTART;TZID=Africa/Nairobi:20220630T123000
DTEND;TZID=Africa/Nairobi:20220630T150000
DTSTAMP:20260425T164709
CREATED:20260314T111024Z
LAST-MODIFIED:20260314T111024Z
UID:2812-1656592200-1656601200@amcham.co.ke
SUMMARY:Joint AmCham - AfIDA Energy & Infrastructure Networking Cocktail
DESCRIPTION:
URL:https://amcham.co.ke/event/joint-amcham-afida-energy-infrastructure-networking-cocktail-2/
END:VEVENT
BEGIN:VEVENT
DTSTART;TZID=Africa/Nairobi:20220630T123000
DTEND;TZID=Africa/Nairobi:20220630T150000
DTSTAMP:20260425T164709
CREATED:20260314T111007Z
LAST-MODIFIED:20260314T111007Z
UID:2710-1656592200-1656601200@amcham.co.ke
SUMMARY:Joint AmCham - AfIDA Energy & Infrastructure Networking Cocktail
DESCRIPTION:
URL:https://amcham.co.ke/event/joint-amcham-afida-energy-infrastructure-networking-cocktail/
END:VEVENT
BEGIN:VEVENT
DTSTART;TZID=+00:00:20220630T093000
DTEND;TZID=+00:00:20220630T120000
DTSTAMP:20260425T164709
CREATED:20260314T114718Z
LAST-MODIFIED:20260423T194237Z
UID:2922-1656581400-1656590400@amcham.co.ke
SUMMARY:Joint AmCham - AfIDA Energy & Infrastructure Networking Cocktail
DESCRIPTION:
URL:https://amcham.co.ke/event/joint-amcham-afida-energy-infrastructure-networking-cocktail-3/
END:VEVENT
BEGIN:VEVENT
DTSTART;TZID=Africa/Nairobi:20220531T040000
DTEND;TZID=Africa/Nairobi:20220531T050000
DTSTAMP:20260425T164709
CREATED:20260314T111024Z
LAST-MODIFIED:20260314T111024Z
UID:2811-1653969600-1653973200@amcham.co.ke
SUMMARY:U.S. Embassy Consular Briefing
DESCRIPTION:An in-depth briefing session with the U.S. Embassy Consular team on: \n \n\nU.S. Visa\, Passport and other related travel requirements.\nAmerican Citizen Services. \n\n \n*This briefing session is for AmCham members only.
URL:https://amcham.co.ke/event/u-s-embassy-consular-briefing-2/
END:VEVENT
BEGIN:VEVENT
DTSTART;TZID=Africa/Nairobi:20220531T040000
DTEND;TZID=Africa/Nairobi:20220531T050000
DTSTAMP:20260425T164709
CREATED:20260314T111007Z
LAST-MODIFIED:20260314T111007Z
UID:2709-1653969600-1653973200@amcham.co.ke
SUMMARY:U.S. Embassy Consular Briefing
DESCRIPTION:An in-depth briefing session with the U.S. Embassy Consular team on: \n \n\nU.S. Visa\, Passport and other related travel requirements.\nAmerican Citizen Services. \n\n \n*This briefing session is for AmCham members only.
URL:https://amcham.co.ke/event/u-s-embassy-consular-briefing/
END:VEVENT
BEGIN:VEVENT
DTSTART;TZID=+00:00:20220531T010000
DTEND;TZID=+00:00:20220531T020000
DTSTAMP:20260425T164709
CREATED:20260314T114718Z
LAST-MODIFIED:20260423T194237Z
UID:2921-1653958800-1653962400@amcham.co.ke
SUMMARY:U.S. Embassy Consular Briefing
DESCRIPTION:
URL:https://amcham.co.ke/event/u-s-embassy-consular-briefing-3/
END:VEVENT
BEGIN:VEVENT
DTSTART;TZID=Africa/Nairobi:20220527T040000
DTEND;TZID=Africa/Nairobi:20220527T051500
DTSTAMP:20260425T164709
CREATED:20260314T111024Z
LAST-MODIFIED:20260314T111024Z
UID:2810-1653624000-1653628500@amcham.co.ke
SUMMARY:2022 Elections Spotlight
DESCRIPTION:This session brings together various experts to explore the implications of the political season and its impacts on the business environment. \n \nSome of the themes to be explored include\, but are not limited to: \n \n\nCurrent Kenyan political economy landscape and its influence on economic policy – are we likely to see policy continuity or departure?\nPrivate sector priorities for the new government/administration.\n\n \n*This forum is for AmCham members only
URL:https://amcham.co.ke/event/2022-elections-spotlight-2/
END:VEVENT
BEGIN:VEVENT
DTSTART;TZID=Africa/Nairobi:20220527T040000
DTEND;TZID=Africa/Nairobi:20220527T051500
DTSTAMP:20260425T164709
CREATED:20260314T111007Z
LAST-MODIFIED:20260314T111007Z
UID:2708-1653624000-1653628500@amcham.co.ke
SUMMARY:2022 Elections Spotlight
DESCRIPTION:This session brings together various experts to explore the implications of the political season and its impacts on the business environment. \n \nSome of the themes to be explored include\, but are not limited to: \n \n\nCurrent Kenyan political economy landscape and its influence on economic policy – are we likely to see policy continuity or departure?\nPrivate sector priorities for the new government/administration.\n\n \n*This forum is for AmCham members only
URL:https://amcham.co.ke/event/2022-elections-spotlight/
END:VEVENT
BEGIN:VEVENT
DTSTART;TZID=+00:00:20220527T010000
DTEND;TZID=+00:00:20220527T021500
DTSTAMP:20260425T164709
CREATED:20260314T114718Z
LAST-MODIFIED:20260423T194237Z
UID:2920-1653613200-1653617700@amcham.co.ke
SUMMARY:2022 Elections Spotlight
DESCRIPTION:
URL:https://amcham.co.ke/event/2022-elections-spotlight-3/
END:VEVENT
BEGIN:VEVENT
DTSTART;TZID=Africa/Nairobi:20220526T130000
DTEND;TZID=Africa/Nairobi:20220526T160000
DTSTAMP:20260425T164709
CREATED:20260314T111024Z
LAST-MODIFIED:20260314T111024Z
UID:2809-1653570000-1653580800@amcham.co.ke
SUMMARY:AmCham - European Business Council Joint Networking Cocktail
DESCRIPTION:Join us for a joint Networking Cocktail with members of the European Business Council including the British Chamber of Commerce Kenya\, French Chamber of Commerce Kenya and German Business Association Kenya on Thursday\, May 26\, 2021 from 6.00p.m. EAT at ArtCaffe 14 Riverside Drive. \n \n \n﻿*This event is open to members only (no cover charge) \n \n**Drinks on cash bar basis (Happy Hour – Buy One Get One Free until 7p.m.!) \n \n****Registration is mandatory to gain entrance
URL:https://amcham.co.ke/event/amcham-european-business-council-joint-networking-cocktail-2/
LOCATION:Artcaffe 14 Riverside
END:VEVENT
BEGIN:VEVENT
DTSTART;TZID=Africa/Nairobi:20220526T130000
DTEND;TZID=Africa/Nairobi:20220526T160000
DTSTAMP:20260425T164709
CREATED:20260314T111007Z
LAST-MODIFIED:20260314T111007Z
UID:2706-1653570000-1653580800@amcham.co.ke
SUMMARY:AmCham - European Business Council Joint Networking Cocktail
DESCRIPTION:Join us for a joint Networking Cocktail with members of the European Business Council including the British Chamber of Commerce Kenya\, French Chamber of Commerce Kenya and German Business Association Kenya on Thursday\, May 26\, 2021 from 6.00p.m. EAT at ArtCaffe 14 Riverside Drive. \n \n \n﻿*This event is open to members only (no cover charge) \n \n**Drinks on cash bar basis (Happy Hour – Buy One Get One Free until 7p.m.!) \n \n****Registration is mandatory to gain entrance
URL:https://amcham.co.ke/event/amcham-european-business-council-joint-networking-cocktail/
LOCATION:Artcaffe 14 Riverside
END:VEVENT
BEGIN:VEVENT
DTSTART;TZID=+00:00:20220526T100000
DTEND;TZID=+00:00:20220526T130000
DTSTAMP:20260425T164709
CREATED:20260314T114718Z
LAST-MODIFIED:20260423T194237Z
UID:2919-1653559200-1653570000@amcham.co.ke
SUMMARY:AmCham - European Business Council Joint Networking Cocktail
DESCRIPTION:
URL:https://amcham.co.ke/event/amcham-european-business-council-joint-networking-cocktail-3/
LOCATION:Artcaffe 14 Riverside
END:VEVENT
BEGIN:VEVENT
DTSTART;TZID=+00:00:20220510T010000
DTEND;TZID=+00:00:20220510T030000
DTSTAMP:20260425T164709
CREATED:20260314T114718Z
LAST-MODIFIED:20260423T194237Z
UID:2918-1652144400-1652151600@amcham.co.ke
SUMMARY:15th Annual General Meeting
DESCRIPTION:
URL:https://amcham.co.ke/event/15th-annual-general-meeting-3/
END:VEVENT
BEGIN:VEVENT
DTSTART;TZID=UTC:20220510T010000
DTEND;TZID=UTC:20220510T030000
DTSTAMP:20260425T164709
CREATED:20260314T111024Z
LAST-MODIFIED:20260314T111024Z
UID:2808-1652144400-1652151600@amcham.co.ke
SUMMARY:15th Annual General Meeting
DESCRIPTION:
URL:https://amcham.co.ke/event/15th-annual-general-meeting-2/
END:VEVENT
BEGIN:VEVENT
DTSTART;TZID=UTC:20220510T010000
DTEND;TZID=UTC:20220510T030000
DTSTAMP:20260425T164709
CREATED:20260314T111007Z
LAST-MODIFIED:20260314T111007Z
UID:2705-1652144400-1652151600@amcham.co.ke
SUMMARY:15th Annual General Meeting
DESCRIPTION:
URL:https://amcham.co.ke/event/15th-annual-general-meeting/
END:VEVENT
BEGIN:VEVENT
DTSTART;TZID=Africa/Nairobi:20220414T040000
DTEND;TZID=Africa/Nairobi:20220414T053000
DTSTAMP:20260425T164709
CREATED:20260314T111024Z
LAST-MODIFIED:20260314T111024Z
UID:2807-1649908800-1649914200@amcham.co.ke
SUMMARY:Finance Bill 2022/23
DESCRIPTION:Join us as we unpack Kenya’s Finance Bill 2022/23 shining the spotlight on the overall economic impact\, tax measures/changes and their immediate implication on business.
URL:https://amcham.co.ke/event/finance-bill-2022-23-2/
LOCATION:Sankara Nairobi
END:VEVENT
BEGIN:VEVENT
DTSTART;TZID=Africa/Nairobi:20220414T040000
DTEND;TZID=Africa/Nairobi:20220414T053000
DTSTAMP:20260425T164709
CREATED:20260314T111007Z
LAST-MODIFIED:20260314T111007Z
UID:2704-1649908800-1649914200@amcham.co.ke
SUMMARY:Finance Bill 2022/23
DESCRIPTION:Join us as we unpack Kenya’s Finance Bill 2022/23 shining the spotlight on the overall economic impact\, tax measures/changes and their immediate implication on business.
URL:https://amcham.co.ke/event/finance-bill-2022-23/
LOCATION:Sankara Nairobi
END:VEVENT
BEGIN:VEVENT
DTSTART;TZID=+00:00:20220414T010000
DTEND;TZID=+00:00:20220414T023000
DTSTAMP:20260425T164709
CREATED:20260314T114718Z
LAST-MODIFIED:20260423T194237Z
UID:2917-1649898000-1649903400@amcham.co.ke
SUMMARY:Finance Bill 2022/23
DESCRIPTION:
URL:https://amcham.co.ke/event/finance-bill-2022-23-3/
LOCATION:Sankara Nairobi
END:VEVENT
BEGIN:VEVENT
DTSTART;TZID=Africa/Nairobi:20220408T033000
DTEND;TZID=Africa/Nairobi:20220422T053000
DTSTAMP:20260425T164709
CREATED:20260314T111024Z
LAST-MODIFIED:20260314T111024Z
UID:2806-1649388600-1650605400@amcham.co.ke
SUMMARY:Growth Series
DESCRIPTION:Sign up for the final session of our exclusive SME Growth Workshop series discussing Governance\, happening April 22\, 2022 | 8.30a.m. – 10.00a.m. EAT. The session will give you access to tools to help you identify governance gaps in your business and find practical solutions to promote sustainable growth. \n \n  \nCOST \n \nAmCham Members – Free \n \nNon-Members – KES. 5\,000 (Per Person) \n \n \nTHE AMCHAM SME ADVANCE PROGRAM \n﻿ \nOwing to the central role that SME’s play in powering the economy and AmCham’s mandate to promote and facilitate two-way trade and investment between Kenya and the U.S.\, the AmCham SME Advance Program provides practical support to AmCham SME members across business development\, access to market and expert trainings to build their capacity to leverage international trade and catalyze their growth. \n \nClick HERE to learn more about how you can benefit from AmCham SME membership.
URL:https://amcham.co.ke/event/growth-series-2/
END:VEVENT
BEGIN:VEVENT
DTSTART;TZID=Africa/Nairobi:20220408T033000
DTEND;TZID=Africa/Nairobi:20220422T053000
DTSTAMP:20260425T164709
CREATED:20260314T111006Z
LAST-MODIFIED:20260314T111006Z
UID:2703-1649388600-1650605400@amcham.co.ke
SUMMARY:Growth Series
DESCRIPTION:Sign up for the final session of our exclusive SME Growth Workshop series discussing Governance\, happening April 22\, 2022 | 8.30a.m. – 10.00a.m. EAT. The session will give you access to tools to help you identify governance gaps in your business and find practical solutions to promote sustainable growth. \n \n  \nCOST \n \nAmCham Members – Free \n \nNon-Members – KES. 5\,000 (Per Person) \n \n \nTHE AMCHAM SME ADVANCE PROGRAM \n﻿ \nOwing to the central role that SME’s play in powering the economy and AmCham’s mandate to promote and facilitate two-way trade and investment between Kenya and the U.S.\, the AmCham SME Advance Program provides practical support to AmCham SME members across business development\, access to market and expert trainings to build their capacity to leverage international trade and catalyze their growth. \n \nClick HERE to learn more about how you can benefit from AmCham SME membership.
URL:https://amcham.co.ke/event/growth-series/
END:VEVENT
BEGIN:VEVENT
DTSTART;TZID=+00:00:20220408T003000
DTEND;TZID=+00:00:20220422T023000
DTSTAMP:20260425T164709
CREATED:20260314T114718Z
LAST-MODIFIED:20260423T194237Z
UID:2916-1649377800-1650594600@amcham.co.ke
SUMMARY:Growth Series
DESCRIPTION:
URL:https://amcham.co.ke/event/growth-series-3/
END:VEVENT
BEGIN:VEVENT
DTSTART;TZID=Africa/Nairobi:20220324T033000
DTEND;TZID=Africa/Nairobi:20220324T050000
DTSTAMP:20260425T164709
CREATED:20260314T111023Z
LAST-MODIFIED:20260314T111023Z
UID:2805-1648092600-1648098000@amcham.co.ke
SUMMARY:Organization Restructuring
DESCRIPTION:Join us March 24\, 2022 at 8.30a.m. to learn from HR practitioners and business leaders sharing their experiences\, best practices\, and practical examples on the impact of organizational restructuring in a post-pandemic workplace.  \n \nUndoubtedly many organizations find themselves having to deal with restructuring and reorganizations to fit in the post pandemic workplace and bounce back to profitability. HR Leaders are at the center of supporting their organizations in the implementation of restructuring programs. In cases where job cuts are part of restructuring HR is responsible for ensuring dignified employee send offs with some employers going the extra mile to connect their transitioning employees to outplacement service companies to help them land new roles faster or transition more smoothly. \n \nThe forum will provide insights to questions such as: \n\nHow does HR navigate restructuring?\nWhat are the challenges that come with it?\nWhat are the legal implications and considerations when restructuring?
URL:https://amcham.co.ke/event/organization-restructuring-2/
END:VEVENT
BEGIN:VEVENT
DTSTART;TZID=Africa/Nairobi:20220324T033000
DTEND;TZID=Africa/Nairobi:20220324T050000
DTSTAMP:20260425T164709
CREATED:20260314T111006Z
LAST-MODIFIED:20260314T111006Z
UID:2702-1648092600-1648098000@amcham.co.ke
SUMMARY:Organization Restructuring
DESCRIPTION:Join us March 24\, 2022 at 8.30a.m. to learn from HR practitioners and business leaders sharing their experiences\, best practices\, and practical examples on the impact of organizational restructuring in a post-pandemic workplace.  \n \nUndoubtedly many organizations find themselves having to deal with restructuring and reorganizations to fit in the post pandemic workplace and bounce back to profitability. HR Leaders are at the center of supporting their organizations in the implementation of restructuring programs. In cases where job cuts are part of restructuring HR is responsible for ensuring dignified employee send offs with some employers going the extra mile to connect their transitioning employees to outplacement service companies to help them land new roles faster or transition more smoothly. \n \nThe forum will provide insights to questions such as: \n\nHow does HR navigate restructuring?\nWhat are the challenges that come with it?\nWhat are the legal implications and considerations when restructuring?
URL:https://amcham.co.ke/event/organization-restructuring/
END:VEVENT
BEGIN:VEVENT
DTSTART;TZID=+00:00:20220324T003000
DTEND;TZID=+00:00:20220324T020000
DTSTAMP:20260425T164709
CREATED:20260314T114717Z
LAST-MODIFIED:20260423T194238Z
UID:2915-1648081800-1648087200@amcham.co.ke
SUMMARY:Organization Restructuring
DESCRIPTION:
URL:https://amcham.co.ke/event/organization-restructuring-3/
END:VEVENT
BEGIN:VEVENT
DTSTART;TZID=Africa/Nairobi:20220128T123000
DTEND;TZID=Africa/Nairobi:20220128T150000
DTSTAMP:20260425T164709
CREATED:20260314T111023Z
LAST-MODIFIED:20260314T111023Z
UID:2804-1643373000-1643382000@amcham.co.ke
SUMMARY:Know Your AmCham
DESCRIPTION:As we kick off 2022\, we are excited to invite you to join us in our annual New Year Member Welcome Cocktail on Friday\, January 28\, 2021 from 5.30p.m. EAT at Tapas Ceviche Bar\, 14 Riverside Drive. \n \nThe forum will be an opportunity to: \n\nGain an overview of AmCham priorities for 2022.\nLearn how your membership can support your business goals.\nMeet and engage with other AmCham members and the secretariat team.\n\n﻿*This event is free to AmCham Kenya members (no cover charge) \n \n**Drinks on cash bar basis (Happy Hour – Buy One Get One Free!) \n \n***Non-Members: KES. 2\,200 cover charge \n \n****Registration is mandatory to gain entrance
URL:https://amcham.co.ke/event/know-your-amcham-3/
LOCATION:Tapas Ceviche Bar – Riverside
END:VEVENT
END:VCALENDAR