BEGIN:VCALENDAR
VERSION:2.0
PRODID:-//AmCham Kenya - ECPv6.15.20//NONSGML v1.0//EN
CALSCALE:GREGORIAN
METHOD:PUBLISH
X-WR-CALNAME:AmCham Kenya
X-ORIGINAL-URL:https://amcham.co.ke
X-WR-CALDESC:Events for AmCham Kenya
REFRESH-INTERVAL;VALUE=DURATION:PT1H
X-Robots-Tag:noindex
X-PUBLISHED-TTL:PT1H
BEGIN:VTIMEZONE
TZID:UTC
BEGIN:STANDARD
TZOFFSETFROM:+0000
TZOFFSETTO:+0000
TZNAME:UTC
DTSTART:20250101T000000
END:STANDARD
END:VTIMEZONE
BEGIN:VEVENT
DTSTART;TZID=UTC:20260210T000000
DTEND;TZID=UTC:20260210T000000
DTSTAMP:20260425T032313
CREATED:20260209T184827Z
LAST-MODIFIED:20260225T135451Z
UID:1171-1770681600-1770681600@amcham.co.ke
SUMMARY:AmCham - KIICO - Creative Economy
DESCRIPTION:
URL:https://amcham.co.ke/event/amcham-kiico-creative-economy/
LOCATION:Nairobi Serena Hotel\, Nairobi Serena Hotel
CATEGORIES:Sector Forum
ATTACH;FMTTYPE=image/jpeg:https://amcham.co.ke/wp-content/uploads/2026/02/AmCham-KIICO-Creative-Economy-394PX-X-293PX.jpg
END:VEVENT
BEGIN:VEVENT
DTSTART;TZID=UTC:20260211T000000
DTEND;TZID=UTC:20260211T000000
DTSTAMP:20260425T032313
CREATED:20260209T184937Z
LAST-MODIFIED:20260225T135333Z
UID:1173-1770768000-1770768000@amcham.co.ke
SUMMARY:AmCham Women in Business Leadership Forum
DESCRIPTION:
URL:https://amcham.co.ke/event/amcham-women-in-business-leadership-forum/
LOCATION:Nairobi Serena Hotel\, Nairobi Serena Hotel
CATEGORIES:Sector Forum
ATTACH;FMTTYPE=image/jpeg:https://amcham.co.ke/wp-content/uploads/2026/02/AmCham-Women-in-Business-Leadership-Forum-2026-394PX-X-293PX.jpg
END:VEVENT
END:VCALENDAR