BEGIN:VCALENDAR
VERSION:2.0
PRODID:-//AmCham Kenya - ECPv6.15.20//NONSGML v1.0//EN
CALSCALE:GREGORIAN
METHOD:PUBLISH
X-WR-CALNAME:AmCham Kenya
X-ORIGINAL-URL:https://amcham.co.ke
X-WR-CALDESC:Events for AmCham Kenya
REFRESH-INTERVAL;VALUE=DURATION:PT1H
X-Robots-Tag:noindex
X-PUBLISHED-TTL:PT1H
BEGIN:VTIMEZONE
TZID:Africa/Abidjan
BEGIN:STANDARD
TZOFFSETFROM:+0000
TZOFFSETTO:+0000
TZNAME:GMT
DTSTART:20250101T000000
END:STANDARD
END:VTIMEZONE
BEGIN:VEVENT
DTSTART;TZID=Africa/Abidjan:20260619T030000
DTEND;TZID=Africa/Abidjan:20260619T120000
DTSTAMP:20260424T211419
CREATED:20260423T184749Z
LAST-MODIFIED:20260424T144400Z
UID:5945-1781838000-1781870400@amcham.co.ke
SUMMARY:AmCham Golf Open 2026
DESCRIPTION:
URL:https://amcham.co.ke/event/amcham-golf-open-2026/
LOCATION:Karen Country Club
END:VEVENT
END:VCALENDAR