BEGIN:VCALENDAR
VERSION:2.0
PRODID:-//AmCham Kenya - ECPv6.15.20//NONSGML v1.0//EN
CALSCALE:GREGORIAN
METHOD:PUBLISH
X-ORIGINAL-URL:https://amcham.co.ke
X-WR-CALDESC:Events for AmCham Kenya
REFRESH-INTERVAL;VALUE=DURATION:PT1H
X-Robots-Tag:noindex
X-PUBLISHED-TTL:PT1H
BEGIN:VTIMEZONE
TZID:+00:00
END:VTIMEZONE
BEGIN:VEVENT
DTSTART;TZID=+00:00:20250409T233000
DTEND;TZID=+00:00:20250410T010000
DTSTAMP:20260425T105512
CREATED:20260423T184745Z
LAST-MODIFIED:20260423T194227Z
UID:5921-1744241400-1744246800@amcham.co.ke
SUMMARY:Africa Futures Program -Aspen Initiative Africa
DESCRIPTION:
URL:https://amcham.co.ke/event/africa-futures-program-aspen-initiative-africa/
LOCATION:Villa Rosa Kempinski
END:VEVENT
END:VCALENDAR