BEGIN:VCALENDAR
VERSION:2.0
PRODID:-//AmCham Kenya - ECPv6.15.20//NONSGML v1.0//EN
CALSCALE:GREGORIAN
METHOD:PUBLISH
X-WR-CALNAME:AmCham Kenya
X-ORIGINAL-URL:https://amcham.co.ke
X-WR-CALDESC:Events for AmCham Kenya
REFRESH-INTERVAL;VALUE=DURATION:PT1H
X-Robots-Tag:noindex
X-PUBLISHED-TTL:PT1H
BEGIN:VTIMEZONE
TZID:+00:00
END:VTIMEZONE
BEGIN:VEVENT
DTSTART;TZID=+00:00:20250131T100000
DTEND;TZID=+00:00:20250131T123000
DTSTAMP:20260425T134728
CREATED:20260423T184743Z
LAST-MODIFIED:20260423T194228Z
UID:5915-1738317600-1738326600@amcham.co.ke
SUMMARY:New Year Networking Cocktail
DESCRIPTION:
URL:https://amcham.co.ke/event/new-year-networking-cocktail/
LOCATION:Mövenpick Hotel & Residences Nairobi
END:VEVENT
END:VCALENDAR