BEGIN:VCALENDAR
VERSION:2.0
PRODID:-//AmCham Kenya - ECPv6.15.20//NONSGML v1.0//EN
CALSCALE:GREGORIAN
METHOD:PUBLISH
X-WR-CALNAME:AmCham Kenya
X-ORIGINAL-URL:https://amcham.co.ke
X-WR-CALDESC:Events for AmCham Kenya
REFRESH-INTERVAL;VALUE=DURATION:PT1H
X-Robots-Tag:noindex
X-PUBLISHED-TTL:PT1H
BEGIN:VTIMEZONE
TZID:+00:00
END:VTIMEZONE
BEGIN:VEVENT
DTSTART;TZID=+00:00:20241105T003000
DTEND;TZID=+00:00:20241105T043000
DTSTAMP:20260425T180420
CREATED:20260423T184742Z
LAST-MODIFIED:20260423T194229Z
UID:5902-1730766600-1730781000@amcham.co.ke
SUMMARY:Health Sector High-Level Stakeholder Roundtable
DESCRIPTION:
URL:https://amcham.co.ke/event/health-sector-high-level-stakeholder-roundtable/
LOCATION:Fairmont The Norfolk Hotel
END:VEVENT
END:VCALENDAR