BEGIN:VCALENDAR
VERSION:2.0
PRODID:-//AmCham Kenya - ECPv6.15.20//NONSGML v1.0//EN
CALSCALE:GREGORIAN
METHOD:PUBLISH
X-WR-CALNAME:AmCham Kenya
X-ORIGINAL-URL:https://amcham.co.ke
X-WR-CALDESC:Events for AmCham Kenya
REFRESH-INTERVAL;VALUE=DURATION:PT1H
X-Robots-Tag:noindex
X-PUBLISHED-TTL:PT1H
BEGIN:VTIMEZONE
TZID:+00:00
END:VTIMEZONE
BEGIN:VEVENT
DTSTART;TZID=+00:00:20240829T000000
DTEND;TZID=+00:00:20240829T020000
DTSTAMP:20260425T204746
CREATED:20260423T184741Z
LAST-MODIFIED:20260423T194230Z
UID:5892-1724889600-1724896800@amcham.co.ke
SUMMARY:Agriculture Sector Working Group Session.
DESCRIPTION:
URL:https://amcham.co.ke/event/agriculture-sector-working-group-session/
LOCATION:Kwetu Nairobi\, Curio Collection by Hilton
END:VEVENT
END:VCALENDAR